Workbook

Sheet 職種別_推奨講座
B1: 職種別_推奨講座 | M1: =TODAY() -> 46134
B2: 更新日:20260422
D3: 分類 | E3: セミナー
B4: ※加工用にExcelシートが必要な方はこちらから | E4: ｅラーニング
B6: 分類 | C6: 狙いと学習効果 | D6: 対象 | E6: 講座
E7: Step1 | F7: Step2 | G7: Step3 | H7: Step4 | I7: Step5 | J7: Step6 | K7: Step7 | L7: Step8 | M7: その他、一緒に受講されている講座
B8: 【初学者向け】 共通パワエレ基礎 | C8: パワエレに必要な基礎技術を身に着ける | D8: 初学者 | E8: 【入門】[173]入門者向けシリーズパワエレ入門と電気入門 | F8: 【入門】【ｅラーニング】実験で学ぶ社会人のためのパワエレ技術（導入編） | G8: 【初級】[201]機械系技術者のためのパワエレ基礎養成講座 | H8: 【初級】【ｅラーニング】実験で学ぶ社会人のためのパワエレ技術（基礎編） | I8: 【初級】[202]基礎パワエレ回路の速習法～チョッパ回路の直感的攻略～ | J8: 【初級】[178]パワエレの試験環境整備と安全確保の考え方 | K8: 【初級】【ｅラーニング】設計基礎技術講座・導入編 | L8: 【初級】【ｅラーニング】基礎パワエレ回路の速習法 | M8: 【初級】[154]開発者のためのインバータ入門講座(2026/05/28) 【入門】[146]EV/HEVの特長から、パワエレ技術を理解する(2026/04/22) 【初級】[202]基礎パワエレ回路の速習法～チョッパ回路の直感的攻略～(2026/04/24) 【初級】[145]自動車の省エネ化を実現するモータとその制御技術の基礎(2026/04/20) 【初級】[142]回路を理解して正しく測る計測技術～入門編～(2026/07/15)
E9: =HYPERLINK(_xlfn.XLOOKUP(E8,講座リスト!$C:$C,講座リスト!$G:$G),IF(E8="","",IFERROR(IF(COUNTIF(E8,"*"&"ｅラーニング"&"*")=1,"受付中",_xlfn.XLOOKUP(E8,講座リスト!$C:$C,講座リスト!$D:$D)),"日程調整中"))) -> 日程調整中 | F9: =HYPERLINK(_xlfn.XLOOKUP(F8,講座リスト!$C:$C,講座リスト!$G:$G),IF(F8="","",IFERROR(IF(COUNTIF(F8,"*"&"ｅラーニング"&"*")=1,"受付中",_xlfn.XLOOKUP(F8,講座リスト!$C:$C,講座リスト!$D:$D)),"日程調整中"))) -> 受付中 | G9: =HYPERLINK(_xlfn.XLOOKUP(G8,講座リスト!$C:$C,講座リスト!$G:$G),IF(G8="","",IFERROR(IF(COUNTIF(G8,"*"&"ｅラーニング"&"*")=1,"受付中",_xlfn.XLOOKUP(G8,講座リスト!$C:$C,講座リスト!$D:$D)),"日程調整中"))) -> 46213 | H9: =HYPERLINK(_xlfn.XLOOKUP(H8,講座リスト!$C:$C,講座リスト!$G:$G),IF(H8="","",IFERROR(IF(COUNTIF(H8,"*"&"ｅラーニング"&"*")=1,"受付中",_xlfn.XLOOKUP(H8,講座リスト!$C:$C,講座リスト!$D:$D)),"日程調整中"))) -> 受付中 | I9: =HYPERLINK(_xlfn.XLOOKUP(I8,講座リスト!$C:$C,講座リスト!$G:$G),IF(I8="","",IFERROR(IF(COUNTIF(I8,"*"&"ｅラーニング"&"*")=1,"受付中",_xlfn.XLOOKUP(I8,講座リスト!$C:$C,講座リスト!$D:$D)),"日程調整中"))) -> 46136 | J9: =HYPERLINK(_xlfn.XLOOKUP(J8,講座リスト!$C:$C,講座リスト!$G:$G),IF(J8="","",IFERROR(IF(COUNTIF(J8,"*"&"ｅラーニング"&"*")=1,"受付中",_xlfn.XLOOKUP(J8,講座リスト!$C:$C,講座リスト!$D:$D)),"日程調整中"))) -> 46212 | K9: =HYPERLINK(_xlfn.XLOOKUP(K8,講座リスト!$C:$C,講座リスト!$G:$G),IF(K8="","",IFERROR(IF(COUNTIF(K8,"*"&"ｅラーニング"&"*")=1,"受付中",_xlfn.XLOOKUP(K8,講座リスト!$C:$C,講座リスト!$D:$D)),"日程調整中"))) -> 受付中 | L9: =HYPERLINK(_xlfn.XLOOKUP(L8,講座リスト!$C:$C,講座リスト!$G:$G),IF(L8="","",IFERROR(IF(COUNTIF(L8,"*"&"ｅラーニング"&"*")=1,"受付中",_xlfn.XLOOKUP(L8,講座リスト!$C:$C,講座リスト!$D:$D)),"日程調整中"))) -> 受付中 | M9: =HYPERLINK("https://pwel.jp/seminars","https://pwel.jp/seminars") -> https://pwel.jp/seminars
B11: 回路/基板全般 | C11: 電気電子回路の読解に必要な基礎知識を習得する | D11: 初学者 | E11: 【入門】【ｅラーニング】実験で学ぶ社会人のためのパワエレ技術（導入編） | F11: 【入門】[101]電気工学入門機械系・情報系技術者のための電気入門講座 | G11: 【初級】[201]機械系技術者のためのパワエレ基礎養成講座 | H11: 【初級】[202]基礎パワエレ回路の速習法～チョッパ回路の直感的攻略～ | I11: 【中級】【ｅラーニング】高専の教師が教える、パワーエレクトロニクス入門講座 | J11: 【初級】【ｅラーニング】実験で学ぶ社会人のためのパワエレ技術（基礎編） | K11: 【初級】[164]DC-DCコンバータの基礎～導入講座～（前編） | L11: 【初級】[178]パワエレの試験環境整備と安全確保の考え方 | M11: 【中級】[203]基礎パワエレ制御の速習法～伝達関数・ボード線図・状態平均化を極める～(2026/05/22) 【初級】[154]開発者のためのインバータ入門講座(2026/05/28) 【初級】[165]DC-DCコンバータの基礎～導入講座～（後編）(2026/04/21) 【中級】[204]応用パワエレ制御の速習法～電圧・電流二重ループフィードバックの勘所～(2026/06/12) 【初級】[147]PID制御設計１：制御対象の数式モデルと応答解析手法（過渡応答、周波数応答）(2026/04/13)
E12: =HYPERLINK(_xlfn.XLOOKUP(E11,講座リスト!$C:$C,講座リスト!$G:$G),IF(E11="","",IFERROR(IF(COUNTIF(E11,"*"&"ｅラーニング"&"*")=1,"受付中",_xlfn.XLOOKUP(E11,講座リスト!$C:$C,講座リスト!$D:$D)),"日程調整中"))) -> 受付中 | F12: =HYPERLINK(_xlfn.XLOOKUP(F11,講座リスト!$C:$C,講座リスト!$G:$G),IF(F11="","",IFERROR(IF(COUNTIF(F11,"*"&"ｅラーニング"&"*")=1,"受付中",_xlfn.XLOOKUP(F11,講座リスト!$C:$C,講座リスト!$D:$D)),"日程調整中"))) -> 日程調整中 | G12: =HYPERLINK(_xlfn.XLOOKUP(G11,講座リスト!$C:$C,講座リスト!$G:$G),IF(G11="","",IFERROR(IF(COUNTIF(G11,"*"&"ｅラーニング"&"*")=1,"受付中",_xlfn.XLOOKUP(G11,講座リスト!$C:$C,講座リスト!$D:$D)),"日程調整中"))) -> 46213 | H12: =HYPERLINK(_xlfn.XLOOKUP(H11,講座リスト!$C:$C,講座リスト!$G:$G),IF(H11="","",IFERROR(IF(COUNTIF(H11,"*"&"ｅラーニング"&"*")=1,"受付中",_xlfn.XLOOKUP(H11,講座リスト!$C:$C,講座リスト!$D:$D)),"日程調整中"))) -> 46136 | I12: =HYPERLINK(_xlfn.XLOOKUP(I11,講座リスト!$C:$C,講座リスト!$G:$G),IF(I11="","",IFERROR(IF(COUNTIF(I11,"*"&"ｅラーニング"&"*")=1,"受付中",_xlfn.XLOOKUP(I11,講座リスト!$C:$C,講座リスト!$D:$D)),"日程調整中"))) -> 受付中 | J12: =HYPERLINK(_xlfn.XLOOKUP(J11,講座リスト!$C:$C,講座リスト!$G:$G),IF(J11="","",IFERROR(IF(COUNTIF(J11,"*"&"ｅラーニング"&"*")=1,"受付中",_xlfn.XLOOKUP(J11,講座リスト!$C:$C,講座リスト!$D:$D)),"日程調整中"))) -> 受付中 | K12: =HYPERLINK(_xlfn.XLOOKUP(K11,講座リスト!$C:$C,講座リスト!$G:$G),IF(K11="","",IFERROR(IF(COUNTIF(K11,"*"&"ｅラーニング"&"*")=1,"受付中",_xlfn.XLOOKUP(K11,講座リスト!$C:$C,講座リスト!$D:$D)),"日程調整中"))) -> 46280 | L12: =HYPERLINK(_xlfn.XLOOKUP(L11,講座リスト!$C:$C,講座リスト!$G:$G),IF(L11="","",IFERROR(IF(COUNTIF(L11,"*"&"ｅラーニング"&"*")=1,"受付中",_xlfn.XLOOKUP(L11,講座リスト!$C:$C,講座リスト!$D:$D)),"日程調整中"))) -> 46212 | M12: =HYPERLINK("https://pwel.jp/seminars","https://pwel.jp/seminars") -> https://pwel.jp/seminars
C13: 回路基板を扱う上での注意点や配線・レイアウト設計法を習得する | D13: 実務経験者 | E13: 【初級】[202]基礎パワエレ回路の速習法～チョッパ回路の直感的攻略～ | F13: 【専門】[134]ノイズを出さない！誤動作させない！スイッチング電源 基板設計の基本作法と考え方 | G13: 【中級】[110]ノイズ対策技術パワエレノイズの原因と対策 | H13: 【専門】[138]パワーエレクトロニクス機器における電磁ノイズ対策の考え方 | I13: 【初級】【ｅラーニング】設計基礎技術講座・導入編 | J13: 【専門】【ｅラーニング】設計基礎技術講座・設計編 | M13: 【中級】[203]基礎パワエレ制御の速習法～伝達関数・ボード線図・状態平均化を極める～(2026/05/22) 【専門】[161]SiC/GaNのゲートドライブ技術と実際(2026/05/18) 【中級】[112]冷却設計の基礎と応用(2026/05/25) 【専門】[128]車載・パワエレ機器にみる熱対策～熱で失敗しないための基礎と実践～(2026/06/09) 【専門】[135]パワーコンバータ用インダクタ/トランスの最新技術とその設計法(2026/06/23) 【専門】[149]DC-DCコンバータの徹底理解講座（ソフトスイッチングの動作原理と重要特性）(2026/05/12)
E14: =HYPERLINK(_xlfn.XLOOKUP(E13,講座リスト!$C:$C,講座リスト!$G:$G),IF(E13="","",IFERROR(IF(COUNTIF(E13,"*"&"ｅラーニング"&"*")=1,"受付中",_xlfn.XLOOKUP(E13,講座リスト!$C:$C,講座リスト!$D:$D)),"日程調整中"))) -> 46136 | F14: =HYPERLINK(_xlfn.XLOOKUP(F13,講座リスト!$C:$C,講座リスト!$G:$G),IF(F13="","",IFERROR(IF(COUNTIF(F13,"*"&"ｅラーニング"&"*")=1,"受付中",_xlfn.XLOOKUP(F13,講座リスト!$C:$C,講座リスト!$D:$D)),"日程調整中"))) -> 46161 | G14: =HYPERLINK(_xlfn.XLOOKUP(G13,講座リスト!$C:$C,講座リスト!$G:$G),IF(G13="","",IFERROR(IF(COUNTIF(G13,"*"&"ｅラーニング"&"*")=1,"受付中",_xlfn.XLOOKUP(G13,講座リスト!$C:$C,講座リスト!$D:$D)),"日程調整中"))) -> 46175 | H14: =HYPERLINK(_xlfn.XLOOKUP(H13,講座リスト!$C:$C,講座リスト!$G:$G),IF(H13="","",IFERROR(IF(COUNTIF(H13,"*"&"ｅラーニング"&"*")=1,"受付中",_xlfn.XLOOKUP(H13,講座リスト!$C:$C,講座リスト!$D:$D)),"日程調整中"))) -> 46276 | I14: =HYPERLINK(_xlfn.XLOOKUP(I13,講座リスト!$C:$C,講座リスト!$G:$G),IF(I13="","",IFERROR(IF(COUNTIF(I13,"*"&"ｅラーニング"&"*")=1,"受付中",_xlfn.XLOOKUP(I13,講座リスト!$C:$C,講座リスト!$D:$D)),"日程調整中"))) -> 受付中 | J14: =HYPERLINK(_xlfn.XLOOKUP(J13,講座リスト!$C:$C,講座リスト!$G:$G),IF(J13="","",IFERROR(IF(COUNTIF(J13,"*"&"ｅラーニング"&"*")=1,"受付中",_xlfn.XLOOKUP(J13,講座リスト!$C:$C,講座リスト!$D:$D)),"日程調整中"))) -> 受付中 | K14: =HYPERLINK(_xlfn.XLOOKUP(K13,講座リスト!$C:$C,講座リスト!$G:$G),IF(K13="","",IFERROR(IF(COUNTIF(K13,"*"&"ｅラーニング"&"*")=1,"受付中",_xlfn.XLOOKUP(K13,講座リスト!$C:$C,講座リスト!$D:$D)),"日程調整中"))) | L14: =HYPERLINK(_xlfn.XLOOKUP(L13,講座リスト!$C:$C,講座リスト!$G:$G),IF(L13="","",IFERROR(IF(COUNTIF(L13,"*"&"ｅラーニング"&"*")=1,"受付中",_xlfn.XLOOKUP(L13,講座リスト!$C:$C,講座リスト!$D:$D)),"日程調整中"))) | M14: =HYPERLINK("https://pwel.jp/seminars","https://pwel.jp/seminars") -> https://pwel.jp/seminars
B16: 計測 | C16: 実際に計測した回路波形（動画）を見ながら現象や計測器の理解を深める | D16: 初学者 | E16: 【入門】[173]入門者向けシリーズパワエレ入門と電気入門 | F16: 【初級】[201]機械系技術者のためのパワエレ基礎養成講座 | G16: 【入門】【ｅラーニング】実験で学ぶ社会人のためのパワエレ技術（導入編） | H16: 【初級】【ｅラーニング】実験で学ぶ社会人のためのパワエレ技術（基礎編） | I16: 【専門】【ｅラーニング】平地研究室技術メモ ｅラーニング講座：パワエレ学習基礎講座 | J16: 【初級】[142]回路を理解して正しく測る計測技術～入門編～ | K16: 【初級】[178]パワエレの試験環境整備と安全確保の考え方 | M16: 【初級】[154]開発者のためのインバータ入門講座(2026/05/28) 【入門】[146]EV/HEVの特長から、パワエレ技術を理解する(2026/04/22) 【初級】[147]PID制御設計１：制御対象の数式モデルと応答解析手法（過渡応答、周波数応答）(2026/04/13) 【中級】[110]ノイズ対策技術パワエレノイズの原因と対策(2026/06/02) 【初級】[144]基礎から理解するスイッチング電源制御系設計(2026/08/24) 【初級】[145]自動車の省エネ化を実現するモータとその制御技術の基礎(2026/04/20)
E17: =HYPERLINK(_xlfn.XLOOKUP(E16,講座リスト!$C:$C,講座リスト!$G:$G),IF(E16="","",IFERROR(IF(COUNTIF(E16,"*"&"ｅラーニング"&"*")=1,"受付中",_xlfn.XLOOKUP(E16,講座リスト!$C:$C,講座リスト!$D:$D)),"日程調整中"))) -> 日程調整中 | F17: =HYPERLINK(_xlfn.XLOOKUP(F16,講座リスト!$C:$C,講座リスト!$G:$G),IF(F16="","",IFERROR(IF(COUNTIF(F16,"*"&"ｅラーニング"&"*")=1,"受付中",_xlfn.XLOOKUP(F16,講座リスト!$C:$C,講座リスト!$D:$D)),"日程調整中"))) -> 46213 | G17: =HYPERLINK(_xlfn.XLOOKUP(G16,講座リスト!$C:$C,講座リスト!$G:$G),IF(G16="","",IFERROR(IF(COUNTIF(G16,"*"&"ｅラーニング"&"*")=1,"受付中",_xlfn.XLOOKUP(G16,講座リスト!$C:$C,講座リスト!$D:$D)),"日程調整中"))) -> 受付中 | H17: =HYPERLINK(_xlfn.XLOOKUP(H16,講座リスト!$C:$C,講座リスト!$G:$G),IF(H16="","",IFERROR(IF(COUNTIF(H16,"*"&"ｅラーニング"&"*")=1,"受付中",_xlfn.XLOOKUP(H16,講座リスト!$C:$C,講座リスト!$D:$D)),"日程調整中"))) -> 受付中 | I17: =HYPERLINK(_xlfn.XLOOKUP(I16,講座リスト!$C:$C,講座リスト!$G:$G),IF(I16="","",IFERROR(IF(COUNTIF(I16,"*"&"ｅラーニング"&"*")=1,"受付中",_xlfn.XLOOKUP(I16,講座リスト!$C:$C,講座リスト!$D:$D)),"日程調整中"))) -> 受付中 | J17: =HYPERLINK(_xlfn.XLOOKUP(J16,講座リスト!$C:$C,講座リスト!$G:$G),IF(J16="","",IFERROR(IF(COUNTIF(J16,"*"&"ｅラーニング"&"*")=1,"受付中",_xlfn.XLOOKUP(J16,講座リスト!$C:$C,講座リスト!$D:$D)),"日程調整中"))) -> 46218 | K17: =HYPERLINK(_xlfn.XLOOKUP(K16,講座リスト!$C:$C,講座リスト!$G:$G),IF(K16="","",IFERROR(IF(COUNTIF(K16,"*"&"ｅラーニング"&"*")=1,"受付中",_xlfn.XLOOKUP(K16,講座リスト!$C:$C,講座リスト!$D:$D)),"日程調整中"))) -> 46212 | L17: =HYPERLINK(_xlfn.XLOOKUP(L16,講座リスト!$C:$C,講座リスト!$G:$G),IF(L16="","",IFERROR(IF(COUNTIF(L16,"*"&"ｅラーニング"&"*")=1,"受付中",_xlfn.XLOOKUP(L16,講座リスト!$C:$C,講座リスト!$D:$D)),"日程調整中"))) | M17: =HYPERLINK("https://pwel.jp/seminars","https://pwel.jp/seminars") -> https://pwel.jp/seminars
D18: 実務経験者 | E18: 【中級】[111]測定技術実測を通して学ぶパワエレ回路・デバイス・計測技術 | F18: 【中級】[302]つくりながら学ぶDC-DCコンバータ | M18: 【中級】[110]ノイズ対策技術パワエレノイズの原因と対策(2026/06/02) 【初級】[154]開発者のためのインバータ入門講座(2026/05/28) 【専門】[128]車載・パワエレ機器にみる熱対策～熱で失敗しないための基礎と実践～(2026/06/09) 【初級】[202]基礎パワエレ回路の速習法～チョッパ回路の直感的攻略～(2026/04/24) 【初級】[201]機械系技術者のためのパワエレ基礎養成講座(2026/07/10) 【初級】[145]自動車の省エネ化を実現するモータとその制御技術の基礎(2026/04/20) 【中級】[203]基礎パワエレ制御の速習法～伝達関数・ボード線図・状態平均化を極める～(2026/05/22)
E19: =HYPERLINK(_xlfn.XLOOKUP(E18,講座リスト!$C:$C,講座リスト!$G:$G),IF(E18="","",IFERROR(IF(COUNTIF(E18,"*"&"ｅラーニング"&"*")=1,"受付中",_xlfn.XLOOKUP(E18,講座リスト!$C:$C,講座リスト!$D:$D)),"日程調整中"))) -> 日程調整中 | F19: =HYPERLINK(_xlfn.XLOOKUP(F18,講座リスト!$C:$C,講座リスト!$G:$G),IF(F18="","",IFERROR(IF(COUNTIF(F18,"*"&"ｅラーニング"&"*")=1,"受付中",_xlfn.XLOOKUP(F18,講座リスト!$C:$C,講座リスト!$D:$D)),"日程調整中"))) -> 46135 | G19: =HYPERLINK(_xlfn.XLOOKUP(G18,講座リスト!$C:$C,講座リスト!$G:$G),IF(G18="","",IFERROR(IF(COUNTIF(G18,"*"&"ｅラーニング"&"*")=1,"受付中",_xlfn.XLOOKUP(G18,講座リスト!$C:$C,講座リスト!$D:$D)),"日程調整中"))) | H19: =HYPERLINK(_xlfn.XLOOKUP(H18,講座リスト!$C:$C,講座リスト!$G:$G),IF(H18="","",IFERROR(IF(COUNTIF(H18,"*"&"ｅラーニング"&"*")=1,"受付中",_xlfn.XLOOKUP(H18,講座リスト!$C:$C,講座リスト!$D:$D)),"日程調整中"))) | I19: =HYPERLINK(_xlfn.XLOOKUP(I18,講座リスト!$C:$C,講座リスト!$G:$G),IF(I18="","",IFERROR(IF(COUNTIF(I18,"*"&"ｅラーニング"&"*")=1,"受付中",_xlfn.XLOOKUP(I18,講座リスト!$C:$C,講座リスト!$D:$D)),"日程調整中"))) | J19: =HYPERLINK(_xlfn.XLOOKUP(J18,講座リスト!$C:$C,講座リスト!$G:$G),IF(J18="","",IFERROR(IF(COUNTIF(J18,"*"&"ｅラーニング"&"*")=1,"受付中",_xlfn.XLOOKUP(J18,講座リスト!$C:$C,講座リスト!$D:$D)),"日程調整中"))) | K19: =HYPERLINK(_xlfn.XLOOKUP(K18,講座リスト!$C:$C,講座リスト!$G:$G),IF(K18="","",IFERROR(IF(COUNTIF(K18,"*"&"ｅラーニング"&"*")=1,"受付中",_xlfn.XLOOKUP(K18,講座リスト!$C:$C,講座リスト!$D:$D)),"日程調整中"))) | L19: =HYPERLINK(_xlfn.XLOOKUP(L18,講座リスト!$C:$C,講座リスト!$G:$G),IF(L18="","",IFERROR(IF(COUNTIF(L18,"*"&"ｅラーニング"&"*")=1,"受付中",_xlfn.XLOOKUP(L18,講座リスト!$C:$C,講座リスト!$D:$D)),"日程調整中"))) | M19: =HYPERLINK("https://pwel.jp/seminars","https://pwel.jp/seminars") -> https://pwel.jp/seminars
B21: 評価 | C21: EMC対策に必要なノイズの基礎理論、低減する設計法を習得する | D21: 実務経験者 | E21: 【初級】[142]回路を理解して正しく測る計測技術～入門編～ | F21: 【中級】[111]測定技術実測を通して学ぶパワエレ回路・デバイス・計測技術 | G21: 【中級】[110]ノイズ対策技術パワエレノイズの原因と対策 | H21: 【専門】[138]パワーエレクトロニクス機器における電磁ノイズ対策の考え方 | I21: 【初級】[178]パワエレの試験環境整備と安全確保の考え方 | M21: 【初級】[154]開発者のためのインバータ入門講座(2026/05/28) 【専門】[161]SiC/GaNのゲートドライブ技術と実際(2026/05/18) 【中級】[203]基礎パワエレ制御の速習法～伝達関数・ボード線図・状態平均化を極める～(2026/05/22) 【専門】[128]車載・パワエレ機器にみる熱対策～熱で失敗しないための基礎と実践～(2026/06/09) 【初級】[201]機械系技術者のためのパワエレ基礎養成講座(2026/07/10) 【中級】[112]冷却設計の基礎と応用(2026/05/25) 【中級】[111]測定技術実測を通して学ぶパワエレ回路・デバイス・計測技術(2026/06/19)
E22: =HYPERLINK(_xlfn.XLOOKUP(E21,講座リスト!$C:$C,講座リスト!$G:$G),IF(E21="","",IFERROR(IF(COUNTIF(E21,"*"&"ｅラーニング"&"*")=1,"受付中",_xlfn.XLOOKUP(E21,講座リスト!$C:$C,講座リスト!$D:$D)),"日程調整中"))) -> 46218 | F22: =HYPERLINK(_xlfn.XLOOKUP(F21,講座リスト!$C:$C,講座リスト!$G:$G),IF(F21="","",IFERROR(IF(COUNTIF(F21,"*"&"ｅラーニング"&"*")=1,"受付中",_xlfn.XLOOKUP(F21,講座リスト!$C:$C,講座リスト!$D:$D)),"日程調整中"))) -> 日程調整中 | G22: =HYPERLINK(_xlfn.XLOOKUP(G21,講座リスト!$C:$C,講座リスト!$G:$G),IF(G21="","",IFERROR(IF(COUNTIF(G21,"*"&"ｅラーニング"&"*")=1,"受付中",_xlfn.XLOOKUP(G21,講座リスト!$C:$C,講座リスト!$D:$D)),"日程調整中"))) -> 46175 | H22: =HYPERLINK(_xlfn.XLOOKUP(H21,講座リスト!$C:$C,講座リスト!$G:$G),IF(H21="","",IFERROR(IF(COUNTIF(H21,"*"&"ｅラーニング"&"*")=1,"受付中",_xlfn.XLOOKUP(H21,講座リスト!$C:$C,講座リスト!$D:$D)),"日程調整中"))) -> 46276 | I22: =HYPERLINK(_xlfn.XLOOKUP(I21,講座リスト!$C:$C,講座リスト!$G:$G),IF(I21="","",IFERROR(IF(COUNTIF(I21,"*"&"ｅラーニング"&"*")=1,"受付中",_xlfn.XLOOKUP(I21,講座リスト!$C:$C,講座リスト!$D:$D)),"日程調整中"))) -> 46212 | J22: =HYPERLINK(_xlfn.XLOOKUP(J21,講座リスト!$C:$C,講座リスト!$G:$G),IF(J21="","",IFERROR(IF(COUNTIF(J21,"*"&"ｅラーニング"&"*")=1,"受付中",_xlfn.XLOOKUP(J21,講座リスト!$C:$C,講座リスト!$D:$D)),"日程調整中"))) | K22: =HYPERLINK(_xlfn.XLOOKUP(K21,講座リスト!$C:$C,講座リスト!$G:$G),IF(K21="","",IFERROR(IF(COUNTIF(K21,"*"&"ｅラーニング"&"*")=1,"受付中",_xlfn.XLOOKUP(K21,講座リスト!$C:$C,講座リスト!$D:$D)),"日程調整中"))) | L22: =HYPERLINK(_xlfn.XLOOKUP(L21,講座リスト!$C:$C,講座リスト!$G:$G),IF(L21="","",IFERROR(IF(COUNTIF(L21,"*"&"ｅラーニング"&"*")=1,"受付中",_xlfn.XLOOKUP(L21,講座リスト!$C:$C,講座リスト!$D:$D)),"日程調整中"))) | M22: =HYPERLINK("https://pwel.jp/seminars","https://pwel.jp/seminars") -> https://pwel.jp/seminars
C23: 熱対策に必要な伝熱、熱回路計算、熱設計法を習得する | D23: 実務経験者 | E23: 【初級】[168]パワーデバイス（基礎編）～演習問題を通して半導体物理の基礎、動作原理、デバイス特性を徹底理解する～ | F23: 【初級】[169]パワーデバイス（回路展開編）～PSIMと解析式を使ってパワーデバイスをパワエレ回路に組込む～ | G23: 【中級】[112]冷却設計の基礎と応用 | H23: 【専門】[128]車載・パワエレ機器にみる熱対策～熱で失敗しないための基礎と実践～ | M23: 【初級】[154]開発者のためのインバータ入門講座(2026/05/28) 【中級】[110]ノイズ対策技術パワエレノイズの原因と対策(2026/06/02) 【入門】[146]EV/HEVの特長から、パワエレ技術を理解する(2026/04/22) 【中級】[203]基礎パワエレ制御の速習法～伝達関数・ボード線図・状態平均化を極める～(2026/05/22) 【初級】[201]機械系技術者のためのパワエレ基礎養成講座(2026/07/10) 【中級】[140]パワエレ屋必見、リチウムイオン電池の基礎とパワエレ技術(2026/07/28)
E24: =HYPERLINK(_xlfn.XLOOKUP(E23,講座リスト!$C:$C,講座リスト!$G:$G),IF(E23="","",IFERROR(IF(COUNTIF(E23,"*"&"ｅラーニング"&"*")=1,"受付中",_xlfn.XLOOKUP(E23,講座リスト!$C:$C,講座リスト!$D:$D)),"日程調整中"))) -> 日程調整中 | F24: =HYPERLINK(_xlfn.XLOOKUP(F23,講座リスト!$C:$C,講座リスト!$G:$G),IF(F23="","",IFERROR(IF(COUNTIF(F23,"*"&"ｅラーニング"&"*")=1,"受付中",_xlfn.XLOOKUP(F23,講座リスト!$C:$C,講座リスト!$D:$D)),"日程調整中"))) -> 46294 | G24: =HYPERLINK(_xlfn.XLOOKUP(G23,講座リスト!$C:$C,講座リスト!$G:$G),IF(G23="","",IFERROR(IF(COUNTIF(G23,"*"&"ｅラーニング"&"*")=1,"受付中",_xlfn.XLOOKUP(G23,講座リスト!$C:$C,講座リスト!$D:$D)),"日程調整中"))) -> 46167 | H24: =HYPERLINK(_xlfn.XLOOKUP(H23,講座リスト!$C:$C,講座リスト!$G:$G),IF(H23="","",IFERROR(IF(COUNTIF(H23,"*"&"ｅラーニング"&"*")=1,"受付中",_xlfn.XLOOKUP(H23,講座リスト!$C:$C,講座リスト!$D:$D)),"日程調整中"))) -> 46182 | I24: =HYPERLINK(_xlfn.XLOOKUP(I23,講座リスト!$C:$C,講座リスト!$G:$G),IF(I23="","",IFERROR(IF(COUNTIF(I23,"*"&"ｅラーニング"&"*")=1,"受付中",_xlfn.XLOOKUP(I23,講座リスト!$C:$C,講座リスト!$D:$D)),"日程調整中"))) | J24: =HYPERLINK(_xlfn.XLOOKUP(J23,講座リスト!$C:$C,講座リスト!$G:$G),IF(J23="","",IFERROR(IF(COUNTIF(J23,"*"&"ｅラーニング"&"*")=1,"受付中",_xlfn.XLOOKUP(J23,講座リスト!$C:$C,講座リスト!$D:$D)),"日程調整中"))) | K24: =HYPERLINK(_xlfn.XLOOKUP(K23,講座リスト!$C:$C,講座リスト!$G:$G),IF(K23="","",IFERROR(IF(COUNTIF(K23,"*"&"ｅラーニング"&"*")=1,"受付中",_xlfn.XLOOKUP(K23,講座リスト!$C:$C,講座リスト!$D:$D)),"日程調整中"))) | L24: =HYPERLINK(_xlfn.XLOOKUP(L23,講座リスト!$C:$C,講座リスト!$G:$G),IF(L23="","",IFERROR(IF(COUNTIF(L23,"*"&"ｅラーニング"&"*")=1,"受付中",_xlfn.XLOOKUP(L23,講座リスト!$C:$C,講座リスト!$D:$D)),"日程調整中"))) | M24: =HYPERLINK("https://pwel.jp/seminars","https://pwel.jp/seminars") -> https://pwel.jp/seminars
B26: モータ | C26: モータ設計に必要なモータの理論、動作原理等の基礎知識を習得する | D26: 初学者 | E26: 【入門】[146]EV/HEVの特長から、パワエレ技術を理解する | F26: 【入門】【ｅラーニング】実験で学ぶ社会人のためのパワエレ技術（導入編） | G26: 【入門】[101]電気工学入門機械系・情報系技術者のための電気入門講座 | H26: 【初級】【ｅラーニング】実験で学ぶ社会人のためのパワエレ技術（基礎編） | I26: 【初級】[104]モータ初級わかりやすいモータの基本技術 | J26: 【初級】[201]機械系技術者のためのパワエレ基礎養成講座 | K26: 【初級】[303]つくりながら学ぶブラシレスモータ | L26: 【初級】[167]シミュレータと実機で学ぶブラシレスモータ設計入門 | M26: 【入門】[146]EV/HEVの特長から、パワエレ技術を理解する(2026/04/22) 【初級】[102]インバータ（初級）インバータを扱ったことのない技術者向けの講座(2026/04/16) 【初級】[303]つくりながら学ぶブラシレスモータ(2026/05/27) 【初級】[201]機械系技術者のためのパワエレ基礎養成講座(2026/07/10) 【中級】[105]中級者のためのモータ制御回転数制御からベクトル制御の入門まで(2026/09/08) 【中級】[115]中級者のためのモータ設計モータを活用するための設計の考え方(2026/08/06) 【専門】[160]モータの品質問題とその解決方法（今知りたい！実務に役立つ知識と低減対策法）(2026/07/22)
E27: =HYPERLINK(_xlfn.XLOOKUP(E26,講座リスト!$C:$C,講座リスト!$G:$G),IF(E26="","",IFERROR(IF(COUNTIF(E26,"*"&"ｅラーニング"&"*")=1,"受付中",_xlfn.XLOOKUP(E26,講座リスト!$C:$C,講座リスト!$D:$D)),"日程調整中"))) -> 日程調整中 | F27: =HYPERLINK(_xlfn.XLOOKUP(F26,講座リスト!$C:$C,講座リスト!$G:$G),IF(F26="","",IFERROR(IF(COUNTIF(F26,"*"&"ｅラーニング"&"*")=1,"受付中",_xlfn.XLOOKUP(F26,講座リスト!$C:$C,講座リスト!$D:$D)),"日程調整中"))) -> 受付中 | G27: =HYPERLINK(_xlfn.XLOOKUP(G26,講座リスト!$C:$C,講座リスト!$G:$G),IF(G26="","",IFERROR(IF(COUNTIF(G26,"*"&"ｅラーニング"&"*")=1,"受付中",_xlfn.XLOOKUP(G26,講座リスト!$C:$C,講座リスト!$D:$D)),"日程調整中"))) -> 日程調整中 | H27: =HYPERLINK(_xlfn.XLOOKUP(H26,講座リスト!$C:$C,講座リスト!$G:$G),IF(H26="","",IFERROR(IF(COUNTIF(H26,"*"&"ｅラーニング"&"*")=1,"受付中",_xlfn.XLOOKUP(H26,講座リスト!$C:$C,講座リスト!$D:$D)),"日程調整中"))) -> 受付中 | I27: =HYPERLINK(_xlfn.XLOOKUP(I26,講座リスト!$C:$C,講座リスト!$G:$G),IF(I26="","",IFERROR(IF(COUNTIF(I26,"*"&"ｅラーニング"&"*")=1,"受付中",_xlfn.XLOOKUP(I26,講座リスト!$C:$C,講座リスト!$D:$D)),"日程調整中"))) -> 46205 | J27: =HYPERLINK(_xlfn.XLOOKUP(J26,講座リスト!$C:$C,講座リスト!$G:$G),IF(J26="","",IFERROR(IF(COUNTIF(J26,"*"&"ｅラーニング"&"*")=1,"受付中",_xlfn.XLOOKUP(J26,講座リスト!$C:$C,講座リスト!$D:$D)),"日程調整中"))) -> 46213 | K27: =HYPERLINK(_xlfn.XLOOKUP(K26,講座リスト!$C:$C,講座リスト!$G:$G),IF(K26="","",IFERROR(IF(COUNTIF(K26,"*"&"ｅラーニング"&"*")=1,"受付中",_xlfn.XLOOKUP(K26,講座リスト!$C:$C,講座リスト!$D:$D)),"日程調整中"))) -> 46169 | L27: =HYPERLINK(_xlfn.XLOOKUP(L26,講座リスト!$C:$C,講座リスト!$G:$G),IF(L26="","",IFERROR(IF(COUNTIF(L26,"*"&"ｅラーニング"&"*")=1,"受付中",_xlfn.XLOOKUP(L26,講座リスト!$C:$C,講座リスト!$D:$D)),"日程調整中"))) -> 46253 | M27: =HYPERLINK("https://pwel.jp/seminars","https://pwel.jp/seminars") -> https://pwel.jp/seminars
D28: 実務経験者 | E28: 【初級】[104]モータ初級わかりやすいモータの基本技術 | F28: 【中級】[115]中級者のためのモータ設計モータを活用するための設計の考え方 | G28: 【中級】[105]中級者のためのモータ制御回転数制御からベクトル制御の入門まで | H28: 【初級】[167]シミュレータと実機で学ぶブラシレスモータ設計入門 | I28: 【中級】[155]モータ振動騒音と低減対策（基礎編）ー 電流・流体・機械の３領域から学ぶ実用講座 ー | J28: 【専門】[156]モータの振動騒音（対策編）（今知りたい！実務に役立つ知識と低減対策法） | K28: 【専門】[160]モータの品質問題とその解決方法（今知りたい！実務に役立つ知識と低減対策法） | L28: 【専門】[170]モータのトルクリップルとその低減対策（今知りたい！実務に役立つ知識と低減対策法） | M28: 【専門】[156]モータの振動騒音（対策編）（今知りたい！実務に役立つ知識と低減対策法）(2026/05/20) 【専門】[160]モータの品質問題とその解決方法（今知りたい！実務に役立つ知識と低減対策法）(2026/07/22) 【初級】[154]開発者のためのインバータ入門講座(2026/05/28) 【初級】[145]自動車の省エネ化を実現するモータとその制御技術の基礎(2026/04/20) 【中級】[112]冷却設計の基礎と応用(2026/05/25) 【専門】[130]永久磁石同期モータ（PMSM）のベクトル制御技術、ドライブの原理から実際まで（前編）(2026/06/10) 【専門】[131]永久磁石同期モータ（PMSM）のベクトル制御技術、ドライブの原理から実際まで（後編）(2026/06/24)
E29: =HYPERLINK(_xlfn.XLOOKUP(E28,講座リスト!$C:$C,講座リスト!$G:$G),IF(E28="","",IFERROR(IF(COUNTIF(E28,"*"&"ｅラーニング"&"*")=1,"受付中",_xlfn.XLOOKUP(E28,講座リスト!$C:$C,講座リスト!$D:$D)),"日程調整中"))) -> 46205 | F29: =HYPERLINK(_xlfn.XLOOKUP(F28,講座リスト!$C:$C,講座リスト!$G:$G),IF(F28="","",IFERROR(IF(COUNTIF(F28,"*"&"ｅラーニング"&"*")=1,"受付中",_xlfn.XLOOKUP(F28,講座リスト!$C:$C,講座リスト!$D:$D)),"日程調整中"))) -> 46240 | G29: =HYPERLINK(_xlfn.XLOOKUP(G28,講座リスト!$C:$C,講座リスト!$G:$G),IF(G28="","",IFERROR(IF(COUNTIF(G28,"*"&"ｅラーニング"&"*")=1,"受付中",_xlfn.XLOOKUP(G28,講座リスト!$C:$C,講座リスト!$D:$D)),"日程調整中"))) -> 46273 | H29: =HYPERLINK(_xlfn.XLOOKUP(H28,講座リスト!$C:$C,講座リスト!$G:$G),IF(H28="","",IFERROR(IF(COUNTIF(H28,"*"&"ｅラーニング"&"*")=1,"受付中",_xlfn.XLOOKUP(H28,講座リスト!$C:$C,講座リスト!$D:$D)),"日程調整中"))) -> 46253 | I29: =HYPERLINK(_xlfn.XLOOKUP(I28,講座リスト!$C:$C,講座リスト!$G:$G),IF(I28="","",IFERROR(IF(COUNTIF(I28,"*"&"ｅラーニング"&"*")=1,"受付中",_xlfn.XLOOKUP(I28,講座リスト!$C:$C,講座リスト!$D:$D)),"日程調整中"))) -> 日程調整中 | J29: =HYPERLINK(_xlfn.XLOOKUP(J28,講座リスト!$C:$C,講座リスト!$G:$G),IF(J28="","",IFERROR(IF(COUNTIF(J28,"*"&"ｅラーニング"&"*")=1,"受付中",_xlfn.XLOOKUP(J28,講座リスト!$C:$C,講座リスト!$D:$D)),"日程調整中"))) -> 46162 | K29: =HYPERLINK(_xlfn.XLOOKUP(K28,講座リスト!$C:$C,講座リスト!$G:$G),IF(K28="","",IFERROR(IF(COUNTIF(K28,"*"&"ｅラーニング"&"*")=1,"受付中",_xlfn.XLOOKUP(K28,講座リスト!$C:$C,講座リスト!$D:$D)),"日程調整中"))) -> 46225 | L29: =HYPERLINK(_xlfn.XLOOKUP(L28,講座リスト!$C:$C,講座リスト!$G:$G),IF(L28="","",IFERROR(IF(COUNTIF(L28,"*"&"ｅラーニング"&"*")=1,"受付中",_xlfn.XLOOKUP(L28,講座リスト!$C:$C,講座リスト!$D:$D)),"日程調整中"))) -> 46255 | M29: =HYPERLINK("https://pwel.jp/seminars","https://pwel.jp/seminars") -> https://pwel.jp/seminars
B31: モータ制御 | C31: モータ制御に必要な電気の知識、モータの知識の知識から駆動原理、ベクトル制御の概要までを習得する | D31: 初学者 | E31: 【初級】[145]自動車の省エネ化を実現するモータとその制御技術の基礎 | F31: 【入門】【ｅラーニング】実験で学ぶ社会人のためのパワエレ技術（導入編） | G31: 【初級】【ｅラーニング】実験で学ぶ社会人のためのパワエレ技術（基礎編） | H31: 【初級】[185]入門者向けシリーズパワエレのための三相交流 | I31: 【初級】[187]入門者向けシリーズモータとベクトル制御入門 | J31: 【中級】[203]基礎パワエレ制御の速習法～伝達関数・ボード線図・状態平均化を極める～ | K31: 【初級】[172]電気自動車の電装回路とベクトル制御～モータの駆動回路とベクトル制御を1日で理解する～ | L31: 【初級】[147]PID制御設計１：制御対象の数式モデルと応答解析手法（過渡応答、周波数応答） | M31: 【初級】[154]開発者のためのインバータ入門講座(2026/05/28) 【初級】[201]機械系技術者のためのパワエレ基礎養成講座(2026/07/10) 【入門】[146]EV/HEVの特長から、パワエレ技術を理解する(2026/04/22) 【専門】[130]永久磁石同期モータ（PMSM）のベクトル制御技術、ドライブの原理から実際まで（前編）(2026/06/10) 【専門】[160]モータの品質問題とその解決方法（今知りたい！実務に役立つ知識と低減対策法）(2026/07/22) 【初級】[202]基礎パワエレ回路の速習法～チョッパ回路の直感的攻略～(2026/04/24)
E32: =HYPERLINK(_xlfn.XLOOKUP(E31,講座リスト!$C:$C,講座リスト!$G:$G),IF(E31="","",IFERROR(IF(COUNTIF(E31,"*"&"ｅラーニング"&"*")=1,"受付中",_xlfn.XLOOKUP(E31,講座リスト!$C:$C,講座リスト!$D:$D)),"日程調整中"))) -> 日程調整中 | F32: =HYPERLINK(_xlfn.XLOOKUP(F31,講座リスト!$C:$C,講座リスト!$G:$G),IF(F31="","",IFERROR(IF(COUNTIF(F31,"*"&"ｅラーニング"&"*")=1,"受付中",_xlfn.XLOOKUP(F31,講座リスト!$C:$C,講座リスト!$D:$D)),"日程調整中"))) -> 受付中 | G32: =HYPERLINK(_xlfn.XLOOKUP(G31,講座リスト!$C:$C,講座リスト!$G:$G),IF(G31="","",IFERROR(IF(COUNTIF(G31,"*"&"ｅラーニング"&"*")=1,"受付中",_xlfn.XLOOKUP(G31,講座リスト!$C:$C,講座リスト!$D:$D)),"日程調整中"))) -> 受付中 | H32: =HYPERLINK(_xlfn.XLOOKUP(H31,講座リスト!$C:$C,講座リスト!$G:$G),IF(H31="","",IFERROR(IF(COUNTIF(H31,"*"&"ｅラーニング"&"*")=1,"受付中",_xlfn.XLOOKUP(H31,講座リスト!$C:$C,講座リスト!$D:$D)),"日程調整中"))) -> 日程調整中 | I32: =HYPERLINK(_xlfn.XLOOKUP(I31,講座リスト!$C:$C,講座リスト!$G:$G),IF(I31="","",IFERROR(IF(COUNTIF(I31,"*"&"ｅラーニング"&"*")=1,"受付中",_xlfn.XLOOKUP(I31,講座リスト!$C:$C,講座リスト!$D:$D)),"日程調整中"))) -> 日程調整中 | J32: =HYPERLINK(_xlfn.XLOOKUP(J31,講座リスト!$C:$C,講座リスト!$G:$G),IF(J31="","",IFERROR(IF(COUNTIF(J31,"*"&"ｅラーニング"&"*")=1,"受付中",_xlfn.XLOOKUP(J31,講座リスト!$C:$C,講座リスト!$D:$D)),"日程調整中"))) -> 46164 | K32: =HYPERLINK(_xlfn.XLOOKUP(K31,講座リスト!$C:$C,講座リスト!$G:$G),IF(K31="","",IFERROR(IF(COUNTIF(K31,"*"&"ｅラーニング"&"*")=1,"受付中",_xlfn.XLOOKUP(K31,講座リスト!$C:$C,講座リスト!$D:$D)),"日程調整中"))) -> 日程調整中 | L32: =HYPERLINK(_xlfn.XLOOKUP(L31,講座リスト!$C:$C,講座リスト!$G:$G),IF(L31="","",IFERROR(IF(COUNTIF(L31,"*"&"ｅラーニング"&"*")=1,"受付中",_xlfn.XLOOKUP(L31,講座リスト!$C:$C,講座リスト!$D:$D)),"日程調整中"))) -> 46267 | M32: =HYPERLINK("https://pwel.jp/seminars","https://pwel.jp/seminars") -> https://pwel.jp/seminars
C33: モータ制御について、ベクトル制御、電流制御、センサレス制御を習得する | D33: 実務経験者 | E33: 【初級】[147]PID制御設計１：制御対象の数式モデルと応答解析手法（過渡応答、周波数応答） | F33: 【初級】[148]PID制御設計２：モータと電気回路のPID制御設計方法 | G33: 【中級】[105]中級者のためのモータ制御回転数制御からベクトル制御の入門まで | H33: 【専門】[130]永久磁石同期モータ（PMSM）のベクトル制御技術、ドライブの原理から実際まで（前編） | I33: 【専門】[131]永久磁石同期モータ（PMSM）のベクトル制御技術、ドライブの原理から実際まで（後編） | J33: 【専門】【ｅラーニング】赤木泰文教授のパワエレ講座：電動機と電動機駆動の基礎と実践 | M33: 【初級】[145]自動車の省エネ化を実現するモータとその制御技術の基礎(2026/04/20) 【初級】[154]開発者のためのインバータ入門講座(2026/05/28) 【中級】[203]基礎パワエレ制御の速習法～伝達関数・ボード線図・状態平均化を極める～(2026/05/22) 【中級】[110]ノイズ対策技術パワエレノイズの原因と対策(2026/06/02)
E34: =HYPERLINK(_xlfn.XLOOKUP(E33,講座リスト!$C:$C,講座リスト!$G:$G),IF(E33="","",IFERROR(IF(COUNTIF(E33,"*"&"ｅラーニング"&"*")=1,"受付中",_xlfn.XLOOKUP(E33,講座リスト!$C:$C,講座リスト!$D:$D)),"日程調整中"))) -> 46267 | F34: =HYPERLINK(_xlfn.XLOOKUP(F33,講座リスト!$C:$C,講座リスト!$G:$G),IF(F33="","",IFERROR(IF(COUNTIF(F33,"*"&"ｅラーニング"&"*")=1,"受付中",_xlfn.XLOOKUP(F33,講座リスト!$C:$C,講座リスト!$D:$D)),"日程調整中"))) -> 46139 | G34: =HYPERLINK(_xlfn.XLOOKUP(G33,講座リスト!$C:$C,講座リスト!$G:$G),IF(G33="","",IFERROR(IF(COUNTIF(G33,"*"&"ｅラーニング"&"*")=1,"受付中",_xlfn.XLOOKUP(G33,講座リスト!$C:$C,講座リスト!$D:$D)),"日程調整中"))) -> 46273 | H34: =HYPERLINK(_xlfn.XLOOKUP(H33,講座リスト!$C:$C,講座リスト!$G:$G),IF(H33="","",IFERROR(IF(COUNTIF(H33,"*"&"ｅラーニング"&"*")=1,"受付中",_xlfn.XLOOKUP(H33,講座リスト!$C:$C,講座リスト!$D:$D)),"日程調整中"))) -> 46183 | I34: =HYPERLINK(_xlfn.XLOOKUP(I33,講座リスト!$C:$C,講座リスト!$G:$G),IF(I33="","",IFERROR(IF(COUNTIF(I33,"*"&"ｅラーニング"&"*")=1,"受付中",_xlfn.XLOOKUP(I33,講座リスト!$C:$C,講座リスト!$D:$D)),"日程調整中"))) -> 46197 | J34: =HYPERLINK(_xlfn.XLOOKUP(J33,講座リスト!$C:$C,講座リスト!$G:$G),IF(J33="","",IFERROR(IF(COUNTIF(J33,"*"&"ｅラーニング"&"*")=1,"受付中",_xlfn.XLOOKUP(J33,講座リスト!$C:$C,講座リスト!$D:$D)),"日程調整中"))) -> 受付中 | K34: =HYPERLINK(_xlfn.XLOOKUP(K33,講座リスト!$C:$C,講座リスト!$G:$G),IF(K33="","",IFERROR(IF(COUNTIF(K33,"*"&"ｅラーニング"&"*")=1,"受付中",_xlfn.XLOOKUP(K33,講座リスト!$C:$C,講座リスト!$D:$D)),"日程調整中"))) | L34: =HYPERLINK(_xlfn.XLOOKUP(L33,講座リスト!$C:$C,講座リスト!$G:$G),IF(L33="","",IFERROR(IF(COUNTIF(L33,"*"&"ｅラーニング"&"*")=1,"受付中",_xlfn.XLOOKUP(L33,講座リスト!$C:$C,講座リスト!$D:$D)),"日程調整中"))) | M34: =HYPERLINK("https://pwel.jp/seminars","https://pwel.jp/seminars") -> https://pwel.jp/seminars
B36: インバータ | C36: インバータ設計に必要な理論、動作原理等の基礎知識を習得する | D36: 初学者 | E36: 【入門】[101]電気工学入門機械系・情報系技術者のための電気入門講座 | F36: 【入門】【ｅラーニング】実験で学ぶ社会人のためのパワエレ技術（導入編） | G36: 【初級】[201]機械系技術者のためのパワエレ基礎養成講座 | H36: 【初級】[202]基礎パワエレ回路の速習法～チョッパ回路の直感的攻略～ | I36: 【初級】[102]インバータ（初級）インバータを扱ったことのない技術者向けの講座 | J36: 【初級】[168]パワーデバイス（基礎編）～演習問題を通して半導体物理の基礎、動作原理、デバイス特性を徹底理解する～ | K36: 【初級】[169]パワーデバイス（回路展開編）～PSIMと解析式を使ってパワーデバイスをパワエレ回路に組込む～ | L36: 【初級】【ｅラーニング】実験で学ぶ社会人のためのパワエレ技術（基礎編） | M36: 【初級】[154]開発者のためのインバータ入門講座(2026/05/28) 【中級】[103]インバータ（中級）大学の授業には出てこないインバータの実務技術(2026/05/21) 【初級】[303]つくりながら学ぶブラシレスモータ(2026/05/27) 【初級】[104]モータ初級わかりやすいモータの基本技術 (2026/07/02) 【初級】[165]DC-DCコンバータの基礎～導入講座～（後編）(2026/04/21) 【初級】[164]DC-DCコンバータの基礎～導入講座～（前編）(2026/04/09) 【専門】[160]モータの品質問題とその解決方法（今知りたい！実務に役立つ知識と低減対策法）(2026/07/22)
E37: =HYPERLINK(_xlfn.XLOOKUP(E36,講座リスト!$C:$C,講座リスト!$G:$G),IF(E36="","",IFERROR(IF(COUNTIF(E36,"*"&"ｅラーニング"&"*")=1,"受付中",_xlfn.XLOOKUP(E36,講座リスト!$C:$C,講座リスト!$D:$D)),"日程調整中"))) -> 日程調整中 | F37: =HYPERLINK(_xlfn.XLOOKUP(F36,講座リスト!$C:$C,講座リスト!$G:$G),IF(F36="","",IFERROR(IF(COUNTIF(F36,"*"&"ｅラーニング"&"*")=1,"受付中",_xlfn.XLOOKUP(F36,講座リスト!$C:$C,講座リスト!$D:$D)),"日程調整中"))) -> 受付中 | G37: =HYPERLINK(_xlfn.XLOOKUP(G36,講座リスト!$C:$C,講座リスト!$G:$G),IF(G36="","",IFERROR(IF(COUNTIF(G36,"*"&"ｅラーニング"&"*")=1,"受付中",_xlfn.XLOOKUP(G36,講座リスト!$C:$C,講座リスト!$D:$D)),"日程調整中"))) -> 46213 | H37: =HYPERLINK(_xlfn.XLOOKUP(H36,講座リスト!$C:$C,講座リスト!$G:$G),IF(H36="","",IFERROR(IF(COUNTIF(H36,"*"&"ｅラーニング"&"*")=1,"受付中",_xlfn.XLOOKUP(H36,講座リスト!$C:$C,講座リスト!$D:$D)),"日程調整中"))) -> 46136 | I37: =HYPERLINK(_xlfn.XLOOKUP(I36,講座リスト!$C:$C,講座リスト!$G:$G),IF(I36="","",IFERROR(IF(COUNTIF(I36,"*"&"ｅラーニング"&"*")=1,"受付中",_xlfn.XLOOKUP(I36,講座リスト!$C:$C,講座リスト!$D:$D)),"日程調整中"))) -> 日程調整中 | J37: =HYPERLINK(_xlfn.XLOOKUP(J36,講座リスト!$C:$C,講座リスト!$G:$G),IF(J36="","",IFERROR(IF(COUNTIF(J36,"*"&"ｅラーニング"&"*")=1,"受付中",_xlfn.XLOOKUP(J36,講座リスト!$C:$C,講座リスト!$D:$D)),"日程調整中"))) -> 日程調整中 | K37: =HYPERLINK(_xlfn.XLOOKUP(K36,講座リスト!$C:$C,講座リスト!$G:$G),IF(K36="","",IFERROR(IF(COUNTIF(K36,"*"&"ｅラーニング"&"*")=1,"受付中",_xlfn.XLOOKUP(K36,講座リスト!$C:$C,講座リスト!$D:$D)),"日程調整中"))) -> 46294 | L37: =HYPERLINK(_xlfn.XLOOKUP(L36,講座リスト!$C:$C,講座リスト!$G:$G),IF(L36="","",IFERROR(IF(COUNTIF(L36,"*"&"ｅラーニング"&"*")=1,"受付中",_xlfn.XLOOKUP(L36,講座リスト!$C:$C,講座リスト!$D:$D)),"日程調整中"))) -> 受付中 | M37: =HYPERLINK("https://pwel.jp/seminars","https://pwel.jp/seminars") -> https://pwel.jp/seminars
D38: 実務経験者 | E38: 【初級】[102]インバータ（初級）インバータを扱ったことのない技術者向けの講座 | F38: 【初級】[154]開発者のためのインバータ入門講座 | G38: 【中級】[103]インバータ（中級）大学の授業には出てこないインバータの実務技術 | H38: 【中級】[109]インバータの系統連系技術－系統連系の基礎と実際－ | M38: 【初級】[102]インバータ（初級）インバータを扱ったことのない技術者向けの講座(2026/04/16) 【専門】[130]永久磁石同期モータ（PMSM）のベクトル制御技術、ドライブの原理から実際まで（前編）(2026/06/10) 【専門】[131]永久磁石同期モータ（PMSM）のベクトル制御技術、ドライブの原理から実際まで（後編）(2026/06/24) 【初級】[154]開発者のためのインバータ入門講座(2026/05/28) 【初級】[147]PID制御設計１：制御対象の数式モデルと応答解析手法（過渡応答、周波数応答）(2026/04/13) 【中級】[110]ノイズ対策技術パワエレノイズの原因と対策(2026/06/02) 【専門】[170]モータのトルクリップルとその低減対策（今知りたい！実務に役立つ知識と低減対策法）(2026/08/21)
E39: =HYPERLINK(_xlfn.XLOOKUP(E38,講座リスト!$C:$C,講座リスト!$G:$G),IF(E38="","",IFERROR(IF(COUNTIF(E38,"*"&"ｅラーニング"&"*")=1,"受付中",_xlfn.XLOOKUP(E38,講座リスト!$C:$C,講座リスト!$D:$D)),"日程調整中"))) -> 日程調整中 | F39: =HYPERLINK(_xlfn.XLOOKUP(F38,講座リスト!$C:$C,講座リスト!$G:$G),IF(F38="","",IFERROR(IF(COUNTIF(F38,"*"&"ｅラーニング"&"*")=1,"受付中",_xlfn.XLOOKUP(F38,講座リスト!$C:$C,講座リスト!$D:$D)),"日程調整中"))) -> 46170 | G39: =HYPERLINK(_xlfn.XLOOKUP(G38,講座リスト!$C:$C,講座リスト!$G:$G),IF(G38="","",IFERROR(IF(COUNTIF(G38,"*"&"ｅラーニング"&"*")=1,"受付中",_xlfn.XLOOKUP(G38,講座リスト!$C:$C,講座リスト!$D:$D)),"日程調整中"))) -> 46163 | H39: =HYPERLINK(_xlfn.XLOOKUP(H38,講座リスト!$C:$C,講座リスト!$G:$G),IF(H38="","",IFERROR(IF(COUNTIF(H38,"*"&"ｅラーニング"&"*")=1,"受付中",_xlfn.XLOOKUP(H38,講座リスト!$C:$C,講座リスト!$D:$D)),"日程調整中"))) -> 46217 | I39: =HYPERLINK(_xlfn.XLOOKUP(I38,講座リスト!$C:$C,講座リスト!$G:$G),IF(I38="","",IFERROR(IF(COUNTIF(I38,"*"&"ｅラーニング"&"*")=1,"受付中",_xlfn.XLOOKUP(I38,講座リスト!$C:$C,講座リスト!$D:$D)),"日程調整中"))) | J39: =HYPERLINK(_xlfn.XLOOKUP(J38,講座リスト!$C:$C,講座リスト!$G:$G),IF(J38="","",IFERROR(IF(COUNTIF(J38,"*"&"ｅラーニング"&"*")=1,"受付中",_xlfn.XLOOKUP(J38,講座リスト!$C:$C,講座リスト!$D:$D)),"日程調整中"))) | K39: =HYPERLINK(_xlfn.XLOOKUP(K38,講座リスト!$C:$C,講座リスト!$G:$G),IF(K38="","",IFERROR(IF(COUNTIF(K38,"*"&"ｅラーニング"&"*")=1,"受付中",_xlfn.XLOOKUP(K38,講座リスト!$C:$C,講座リスト!$D:$D)),"日程調整中"))) | L39: =HYPERLINK(_xlfn.XLOOKUP(L38,講座リスト!$C:$C,講座リスト!$G:$G),IF(L38="","",IFERROR(IF(COUNTIF(L38,"*"&"ｅラーニング"&"*")=1,"受付中",_xlfn.XLOOKUP(L38,講座リスト!$C:$C,講座リスト!$D:$D)),"日程調整中"))) | M39: =HYPERLINK("https://pwel.jp/seminars","https://pwel.jp/seminars") -> https://pwel.jp/seminars
B41: DCDCコンバータ | C41: DCDCコンバータ設計に必要な動作原理、制御法等の基礎知識を習得する | D41: 初学者 | E41: 【入門】[101]電気工学入門機械系・情報系技術者のための電気入門講座 | F41: 【初級】[201]機械系技術者のためのパワエレ基礎養成講座 | G41: 【入門】【ｅラーニング】実験で学ぶ社会人のためのパワエレ技術（導入編） | H41: 【初級】[186]入門者向けシリーズパワーデバイスとパワエレ回路入門 | I41: 【初級】[202]基礎パワエレ回路の速習法～チョッパ回路の直感的攻略～ | J41: 【初級】[168]パワーデバイス（基礎編）～演習問題を通して半導体物理の基礎、動作原理、デバイス特性を徹底理解する～ | K41: 【初級】[169]パワーデバイス（回路展開編）～PSIMと解析式を使ってパワーデバイスをパワエレ回路に組込む～ | L41: 【初級】[164]DC-DCコンバータの基礎～導入講座～（前編） | M41: 【中級】[203]基礎パワエレ制御の速習法～伝達関数・ボード線図・状態平均化を極める～(2026/05/22) 【初級】[154]開発者のためのインバータ入門講座(2026/05/28) 【初級】[165]DC-DCコンバータの基礎～導入講座～（後編）(2026/04/21) 【中級】[204]応用パワエレ制御の速習法～電圧・電流二重ループフィードバックの勘所～(2026/06/12) 【初級】[147]PID制御設計１：制御対象の数式モデルと応答解析手法（過渡応答、周波数応答）(2026/04/13)
E42: =HYPERLINK(_xlfn.XLOOKUP(E41,講座リスト!$C:$C,講座リスト!$G:$G),IF(E41="","",IFERROR(IF(COUNTIF(E41,"*"&"ｅラーニング"&"*")=1,"受付中",_xlfn.XLOOKUP(E41,講座リスト!$C:$C,講座リスト!$D:$D)),"日程調整中"))) -> 日程調整中 | F42: =HYPERLINK(_xlfn.XLOOKUP(F41,講座リスト!$C:$C,講座リスト!$G:$G),IF(F41="","",IFERROR(IF(COUNTIF(F41,"*"&"ｅラーニング"&"*")=1,"受付中",_xlfn.XLOOKUP(F41,講座リスト!$C:$C,講座リスト!$D:$D)),"日程調整中"))) -> 46213 | G42: =HYPERLINK(_xlfn.XLOOKUP(G41,講座リスト!$C:$C,講座リスト!$G:$G),IF(G41="","",IFERROR(IF(COUNTIF(G41,"*"&"ｅラーニング"&"*")=1,"受付中",_xlfn.XLOOKUP(G41,講座リスト!$C:$C,講座リスト!$D:$D)),"日程調整中"))) -> 受付中 | H42: =HYPERLINK(_xlfn.XLOOKUP(H41,講座リスト!$C:$C,講座リスト!$G:$G),IF(H41="","",IFERROR(IF(COUNTIF(H41,"*"&"ｅラーニング"&"*")=1,"受付中",_xlfn.XLOOKUP(H41,講座リスト!$C:$C,講座リスト!$D:$D)),"日程調整中"))) -> 日程調整中 | I42: =HYPERLINK(_xlfn.XLOOKUP(I41,講座リスト!$C:$C,講座リスト!$G:$G),IF(I41="","",IFERROR(IF(COUNTIF(I41,"*"&"ｅラーニング"&"*")=1,"受付中",_xlfn.XLOOKUP(I41,講座リスト!$C:$C,講座リスト!$D:$D)),"日程調整中"))) -> 46136 | J42: =HYPERLINK(_xlfn.XLOOKUP(J41,講座リスト!$C:$C,講座リスト!$G:$G),IF(J41="","",IFERROR(IF(COUNTIF(J41,"*"&"ｅラーニング"&"*")=1,"受付中",_xlfn.XLOOKUP(J41,講座リスト!$C:$C,講座リスト!$D:$D)),"日程調整中"))) -> 日程調整中 | K42: =HYPERLINK(_xlfn.XLOOKUP(K41,講座リスト!$C:$C,講座リスト!$G:$G),IF(K41="","",IFERROR(IF(COUNTIF(K41,"*"&"ｅラーニング"&"*")=1,"受付中",_xlfn.XLOOKUP(K41,講座リスト!$C:$C,講座リスト!$D:$D)),"日程調整中"))) -> 46294 | L42: =HYPERLINK(_xlfn.XLOOKUP(L41,講座リスト!$C:$C,講座リスト!$G:$G),IF(L41="","",IFERROR(IF(COUNTIF(L41,"*"&"ｅラーニング"&"*")=1,"受付中",_xlfn.XLOOKUP(L41,講座リスト!$C:$C,講座リスト!$D:$D)),"日程調整中"))) -> 46280 | M42: =HYPERLINK("https://pwel.jp/seminars","https://pwel.jp/seminars") -> https://pwel.jp/seminars
C43: 回路方式ごとの特徴や主要部品となるリアクトルについて深く知識を習得する。 特に徹底理解シリーズは6種類の回路方式に分かれる。 | D43: 実務経験者 | E43: 【初級】[202]基礎パワエレ回路の速習法～チョッパ回路の直感的攻略～ | F43: 【中級】[116]演習によるDC-DCコンバータレベルアップ講座 | G43: 【中級】[151]演習による変圧器・リアクトル徹底理解講座 | H43: DCDCコンバータ徹底理解シリーズ (LLC、DAB、フォワード、ブリッジ、電流型、双方向、PFC、共振型、ソフトスイッチング） | I43: 【専門】[135]パワーコンバータ用インダクタ/トランスの最新技術とその設計法 | J43: 【専門】[129]高周波電力変換器における磁性素子～構造技術と負荷試験法～ | K43: 【専門】【ｅラーニング】赤木泰文教授のパワエレ講座：高周波パワーエレクトロニクス回路の基礎と実践 | L43: 【専門】[161]SiC/GaNのゲートドライブ技術と実際 | M43: 【中級】[203]基礎パワエレ制御の速習法～伝達関数・ボード線図・状態平均化を極める～(2026/05/22) 【初級】[171]パワー半導体デバイスのゲート駆動技術(2026/09/17) 【初級】[147]PID制御設計１：制御対象の数式モデルと応答解析手法（過渡応答、周波数応答）(2026/04/13) 【初級】[143]DC-DCコンバータのフィードバッグ制御入門(2026/07/16) 【初級】[144]基礎から理解するスイッチング電源制御系設計(2026/08/24) 【初級】[154]開発者のためのインバータ入門講座(2026/05/28)
E44: =HYPERLINK(_xlfn.XLOOKUP(E43,講座リスト!$C:$C,講座リスト!$G:$G),IF(E43="","",IFERROR(IF(COUNTIF(E43,"*"&"ｅラーニング"&"*")=1,"受付中",_xlfn.XLOOKUP(E43,講座リスト!$C:$C,講座リスト!$D:$D)),"日程調整中"))) -> 46136 | F44: =HYPERLINK(_xlfn.XLOOKUP(F43,講座リスト!$C:$C,講座リスト!$G:$G),IF(F43="","",IFERROR(IF(COUNTIF(F43,"*"&"ｅラーニング"&"*")=1,"受付中",_xlfn.XLOOKUP(F43,講座リスト!$C:$C,講座リスト!$D:$D)),"日程調整中"))) -> 46238 | G44: =HYPERLINK(_xlfn.XLOOKUP(G43,講座リスト!$C:$C,講座リスト!$G:$G),IF(G43="","",IFERROR(IF(COUNTIF(G43,"*"&"ｅラーニング"&"*")=1,"受付中",_xlfn.XLOOKUP(G43,講座リスト!$C:$C,講座リスト!$D:$D)),"日程調整中"))) -> 46224 | H44: =HYPERLINK("https://pwel.jp/seminars#taikei","詳細はこちら") -> 詳細はこちら | I44: =HYPERLINK(_xlfn.XLOOKUP(I43,講座リスト!$C:$C,講座リスト!$G:$G),IF(I43="","",IFERROR(IF(COUNTIF(I43,"*"&"ｅラーニング"&"*")=1,"受付中",_xlfn.XLOOKUP(I43,講座リスト!$C:$C,講座リスト!$D:$D)),"日程調整中"))) -> 46196 | J44: =HYPERLINK(_xlfn.XLOOKUP(J43,講座リスト!$C:$C,講座リスト!$G:$G),IF(J43="","",IFERROR(IF(COUNTIF(J43,"*"&"ｅラーニング"&"*")=1,"受付中",_xlfn.XLOOKUP(J43,講座リスト!$C:$C,講座リスト!$D:$D)),"日程調整中"))) -> 46198 | K44: =HYPERLINK(_xlfn.XLOOKUP(K43,講座リスト!$C:$C,講座リスト!$G:$G),IF(K43="","",IFERROR(IF(COUNTIF(K43,"*"&"ｅラーニング"&"*")=1,"受付中",_xlfn.XLOOKUP(K43,講座リスト!$C:$C,講座リスト!$D:$D)),"日程調整中"))) -> 受付中 | L44: =HYPERLINK(_xlfn.XLOOKUP(L43,講座リスト!$C:$C,講座リスト!$G:$G),IF(L43="","",IFERROR(IF(COUNTIF(L43,"*"&"ｅラーニング"&"*")=1,"受付中",_xlfn.XLOOKUP(L43,講座リスト!$C:$C,講座リスト!$D:$D)),"日程調整中"))) -> 46160 | M44: =HYPERLINK("https://pwel.jp/seminars","https://pwel.jp/seminars") -> https://pwel.jp/seminars
B46: パワエレ制御 | C46: 変換機全般の制御に関わる知識を習得する。 | D46: 初学者～実務経験者 | E46: 【初級】[144]基礎から理解するスイッチング電源制御系設計 | F46: 【中級】[203]基礎パワエレ制御の速習法～伝達関数・ボード線図・状態平均化を極める～ | G46: 【初級】[147]PID制御設計１：制御対象の数式モデルと応答解析手法（過渡応答、周波数応答） | H46: 【初級】[143]DC-DCコンバータのフィードバッグ制御入門 | I46: 【中級】[204]応用パワエレ制御の速習法～電圧・電流二重ループフィードバックの勘所～ | J46: 【中級】【ｅラーニング】パワエレ制御技術講座 | K46: 【初級】[183]1日でつかむ、組み込みマイコン基礎技術～マイコンによるアナログ・デジタル信号の取り扱い～ | L46: 【初級】[162]Excelから始めるプログラミングと制御工学 | M46: 【初級】[202]基礎パワエレ回路の速習法～チョッパ回路の直感的攻略～(2026/04/24) 【中級】[110]ノイズ対策技術パワエレノイズの原因と対策(2026/06/02) 【専門】[161]SiC/GaNのゲートドライブ技術と実際(2026/05/18) 【初級】[201]機械系技術者のためのパワエレ基礎養成講座(2026/07/10) 【初級】[154]開発者のためのインバータ入門講座(2026/05/28) 【初級】[143]DC-DCコンバータのフィードバッグ制御入門(2026/07/16)
E47: =HYPERLINK(_xlfn.XLOOKUP(E46,講座リスト!$C:$C,講座リスト!$G:$G),IF(E46="","",IFERROR(IF(COUNTIF(E46,"*"&"ｅラーニング"&"*")=1,"受付中",_xlfn.XLOOKUP(E46,講座リスト!$C:$C,講座リスト!$D:$D)),"日程調整中"))) -> 46258 | F47: =HYPERLINK(_xlfn.XLOOKUP(F46,講座リスト!$C:$C,講座リスト!$G:$G),IF(F46="","",IFERROR(IF(COUNTIF(F46,"*"&"ｅラーニング"&"*")=1,"受付中",_xlfn.XLOOKUP(F46,講座リスト!$C:$C,講座リスト!$D:$D)),"日程調整中"))) -> 46164 | G47: =HYPERLINK(_xlfn.XLOOKUP(G46,講座リスト!$C:$C,講座リスト!$G:$G),IF(G46="","",IFERROR(IF(COUNTIF(G46,"*"&"ｅラーニング"&"*")=1,"受付中",_xlfn.XLOOKUP(G46,講座リスト!$C:$C,講座リスト!$D:$D)),"日程調整中"))) -> 46267 | H47: =HYPERLINK(_xlfn.XLOOKUP(H46,講座リスト!$C:$C,講座リスト!$G:$G),IF(H46="","",IFERROR(IF(COUNTIF(H46,"*"&"ｅラーニング"&"*")=1,"受付中",_xlfn.XLOOKUP(H46,講座リスト!$C:$C,講座リスト!$D:$D)),"日程調整中"))) -> 46219 | I47: =HYPERLINK(_xlfn.XLOOKUP(I46,講座リスト!$C:$C,講座リスト!$G:$G),IF(I46="","",IFERROR(IF(COUNTIF(I46,"*"&"ｅラーニング"&"*")=1,"受付中",_xlfn.XLOOKUP(I46,講座リスト!$C:$C,講座リスト!$D:$D)),"日程調整中"))) -> 46185 | J47: =HYPERLINK(_xlfn.XLOOKUP(J46,講座リスト!$C:$C,講座リスト!$G:$G),IF(J46="","",IFERROR(IF(COUNTIF(J46,"*"&"ｅラーニング"&"*")=1,"受付中",_xlfn.XLOOKUP(J46,講座リスト!$C:$C,講座リスト!$D:$D)),"日程調整中"))) -> 受付中 | K47: =HYPERLINK(_xlfn.XLOOKUP(K46,講座リスト!$C:$C,講座リスト!$G:$G),IF(K46="","",IFERROR(IF(COUNTIF(K46,"*"&"ｅラーニング"&"*")=1,"受付中",_xlfn.XLOOKUP(K46,講座リスト!$C:$C,講座リスト!$D:$D)),"日程調整中"))) -> 日程調整中 | L47: =HYPERLINK(_xlfn.XLOOKUP(L46,講座リスト!$C:$C,講座リスト!$G:$G),IF(L46="","",IFERROR(IF(COUNTIF(L46,"*"&"ｅラーニング"&"*")=1,"受付中",_xlfn.XLOOKUP(L46,講座リスト!$C:$C,講座リスト!$D:$D)),"日程調整中"))) -> 46239 | M47: =HYPERLINK("https://pwel.jp/seminars","https://pwel.jp/seminars") -> https://pwel.jp/seminars
B49: その他 | C49: 電気自動車/ハイブリッド自動車の基礎技術 | D49: 初学者 | E49: 【入門】[146]EV/HEVの特長から、パワエレ技術を理解する | F49: 【入門】【ｅラーニング】実験で学ぶ社会人のためのパワエレ技術（導入編） | G49: 【初級】[201]機械系技術者のためのパワエレ基礎養成講座 | H49: 【初級】[172]電気自動車の電装回路とベクトル制御～モータの駆動回路とベクトル制御を1日で理解する～ | I49: 【初級】[164]DC-DCコンバータの基礎～導入講座～（前編） | J49: 【初級】【ｅラーニング】リチウムイオン電池の基礎 | K49: 【初級】[145]自動車の省エネ化を実現するモータとその制御技術の基礎 | M49: 【初級】[154]開発者のためのインバータ入門講座(2026/05/28) 【初級】[142]回路を理解して正しく測る計測技術～入門編～(2026/07/15) 【中級】[112]冷却設計の基礎と応用(2026/05/25) 【中級】[140]パワエレ屋必見、リチウムイオン電池の基礎とパワエレ技術(2026/07/28) 【初級】[165]DC-DCコンバータの基礎～導入講座～（後編）(2026/04/21)
E50: =HYPERLINK(_xlfn.XLOOKUP(E49,講座リスト!$C:$C,講座リスト!$G:$G),IF(E49="","",IFERROR(IF(COUNTIF(E49,"*"&"ｅラーニング"&"*")=1,"受付中",_xlfn.XLOOKUP(E49,講座リスト!$C:$C,講座リスト!$D:$D)),"日程調整中"))) -> 日程調整中 | F50: =HYPERLINK(_xlfn.XLOOKUP(F49,講座リスト!$C:$C,講座リスト!$G:$G),IF(F49="","",IFERROR(IF(COUNTIF(F49,"*"&"ｅラーニング"&"*")=1,"受付中",_xlfn.XLOOKUP(F49,講座リスト!$C:$C,講座リスト!$D:$D)),"日程調整中"))) -> 受付中 | G50: =HYPERLINK(_xlfn.XLOOKUP(G49,講座リスト!$C:$C,講座リスト!$G:$G),IF(G49="","",IFERROR(IF(COUNTIF(G49,"*"&"ｅラーニング"&"*")=1,"受付中",_xlfn.XLOOKUP(G49,講座リスト!$C:$C,講座リスト!$D:$D)),"日程調整中"))) -> 46213 | H50: =HYPERLINK(_xlfn.XLOOKUP(H49,講座リスト!$C:$C,講座リスト!$G:$G),IF(H49="","",IFERROR(IF(COUNTIF(H49,"*"&"ｅラーニング"&"*")=1,"受付中",_xlfn.XLOOKUP(H49,講座リスト!$C:$C,講座リスト!$D:$D)),"日程調整中"))) -> 日程調整中 | I50: =HYPERLINK(_xlfn.XLOOKUP(I49,講座リスト!$C:$C,講座リスト!$G:$G),IF(I49="","",IFERROR(IF(COUNTIF(I49,"*"&"ｅラーニング"&"*")=1,"受付中",_xlfn.XLOOKUP(I49,講座リスト!$C:$C,講座リスト!$D:$D)),"日程調整中"))) -> 46280 | J50: =HYPERLINK(_xlfn.XLOOKUP(J49,講座リスト!$C:$C,講座リスト!$G:$G),IF(J49="","",IFERROR(IF(COUNTIF(J49,"*"&"ｅラーニング"&"*")=1,"受付中",_xlfn.XLOOKUP(J49,講座リスト!$C:$C,講座リスト!$D:$D)),"日程調整中"))) -> 受付中 | K50: =HYPERLINK(_xlfn.XLOOKUP(K49,講座リスト!$C:$C,講座リスト!$G:$G),IF(K49="","",IFERROR(IF(COUNTIF(K49,"*"&"ｅラーニング"&"*")=1,"受付中",_xlfn.XLOOKUP(K49,講座リスト!$C:$C,講座リスト!$D:$D)),"日程調整中"))) -> 日程調整中 | L50: =HYPERLINK(_xlfn.XLOOKUP(L49,講座リスト!$C:$C,講座リスト!$G:$G),IF(L49="","",IFERROR(IF(COUNTIF(L49,"*"&"ｅラーニング"&"*")=1,"受付中",_xlfn.XLOOKUP(L49,講座リスト!$C:$C,講座リスト!$D:$D)),"日程調整中"))) | M50: =HYPERLINK("https://pwel.jp/seminars","https://pwel.jp/seminars") -> https://pwel.jp/seminars
C51: パワーコンディショナー/系統連系インバータ開発者向け講座 | D51: 初学者～実務経験者 | E51: 【入門】[184]入門者向けシリーズパワエレのための交流回路 | F51: 【初級】[185]入門者向けシリーズパワエレのための三相交流 | G51: 【入門】[101]電気工学入門機械系・情報系技術者のための電気入門講座 | H51: 【専門】【ｅラーニング】平地研究室技術メモ ｅラーニング講座：パワエレ学習基礎講座 | I51: 【初級】[102]インバータ（初級）インバータを扱ったことのない技術者向けの講座 | J51: 【初級】[154]開発者のためのインバータ入門講座 | K51: 【中級】[109]インバータの系統連系技術－系統連系の基礎と実際－ | M51: 【中級】[203]基礎パワエレ制御の速習法～伝達関数・ボード線図・状態平均化を極める～(2026/05/22) 【専門】[161]SiC/GaNのゲートドライブ技術と実際(2026/05/18) 【中級】[204]応用パワエレ制御の速習法～電圧・電流二重ループフィードバックの勘所～(2026/06/12) 【中級】[110]ノイズ対策技術パワエレノイズの原因と対策(2026/06/02) 【専門】[130]永久磁石同期モータ（PMSM）のベクトル制御技術、ドライブの原理から実際まで（前編）(2026/06/10) 【初級】[147]PID制御設計１：制御対象の数式モデルと応答解析手法（過渡応答、周波数応答）(2026/04/13) 【専門】[131]永久磁石同期モータ（PMSM）のベクトル制御技術、ドライブの原理から実際まで（後編）(2026/06/24)
E52: =HYPERLINK(_xlfn.XLOOKUP(E51,講座リスト!$C:$C,講座リスト!$G:$G),IF(E51="","",IFERROR(IF(COUNTIF(E51,"*"&"ｅラーニング"&"*")=1,"受付中",_xlfn.XLOOKUP(E51,講座リスト!$C:$C,講座リスト!$D:$D)),"日程調整中"))) -> 日程調整中 | F52: =HYPERLINK(_xlfn.XLOOKUP(F51,講座リスト!$C:$C,講座リスト!$G:$G),IF(F51="","",IFERROR(IF(COUNTIF(F51,"*"&"ｅラーニング"&"*")=1,"受付中",_xlfn.XLOOKUP(F51,講座リスト!$C:$C,講座リスト!$D:$D)),"日程調整中"))) -> 日程調整中 | G52: =HYPERLINK(_xlfn.XLOOKUP(G51,講座リスト!$C:$C,講座リスト!$G:$G),IF(G51="","",IFERROR(IF(COUNTIF(G51,"*"&"ｅラーニング"&"*")=1,"受付中",_xlfn.XLOOKUP(G51,講座リスト!$C:$C,講座リスト!$D:$D)),"日程調整中"))) -> 日程調整中 | H52: =HYPERLINK(_xlfn.XLOOKUP(H51,講座リスト!$C:$C,講座リスト!$G:$G),IF(H51="","",IFERROR(IF(COUNTIF(H51,"*"&"ｅラーニング"&"*")=1,"受付中",_xlfn.XLOOKUP(H51,講座リスト!$C:$C,講座リスト!$D:$D)),"日程調整中"))) -> 受付中 | I52: =HYPERLINK(_xlfn.XLOOKUP(I51,講座リスト!$C:$C,講座リスト!$G:$G),IF(I51="","",IFERROR(IF(COUNTIF(I51,"*"&"ｅラーニング"&"*")=1,"受付中",_xlfn.XLOOKUP(I51,講座リスト!$C:$C,講座リスト!$D:$D)),"日程調整中"))) -> 日程調整中 | J52: =HYPERLINK(_xlfn.XLOOKUP(J51,講座リスト!$C:$C,講座リスト!$G:$G),IF(J51="","",IFERROR(IF(COUNTIF(J51,"*"&"ｅラーニング"&"*")=1,"受付中",_xlfn.XLOOKUP(J51,講座リスト!$C:$C,講座リスト!$D:$D)),"日程調整中"))) -> 46170 | K52: =HYPERLINK(_xlfn.XLOOKUP(K51,講座リスト!$C:$C,講座リスト!$G:$G),IF(K51="","",IFERROR(IF(COUNTIF(K51,"*"&"ｅラーニング"&"*")=1,"受付中",_xlfn.XLOOKUP(K51,講座リスト!$C:$C,講座リスト!$D:$D)),"日程調整中"))) -> 46217 | L52: =HYPERLINK(_xlfn.XLOOKUP(L51,講座リスト!$C:$C,講座リスト!$G:$G),IF(L51="","",IFERROR(IF(COUNTIF(L51,"*"&"ｅラーニング"&"*")=1,"受付中",_xlfn.XLOOKUP(L51,講座リスト!$C:$C,講座リスト!$D:$D)),"日程調整中"))) | M52: =HYPERLINK("https://pwel.jp/seminars","https://pwel.jp/seminars") -> https://pwel.jp/seminars
C53: 燃料電池アプリケーション開発者向け | D53: 初学者 | E53: 【初級】[113]燃料電池技術知って得する基礎知識 | F53: 【入門】[146]EV/HEVの特長から、パワエレ技術を理解する | G53: 【中級】[140]パワエレ屋必見、リチウムイオン電池の基礎とパワエレ技術 | M53: 【初級】[154]開発者のためのインバータ入門講座(2026/05/28) 【初級】[164]DC-DCコンバータの基礎～導入講座～（前編）(2026/04/09) 【初級】[165]DC-DCコンバータの基礎～導入講座～（後編）(2026/04/21) 【初級】[145]自動車の省エネ化を実現するモータとその制御技術の基礎(2026/04/20) 【初級】[142]回路を理解して正しく測る計測技術～入門編～(2026/07/15)
E54: =HYPERLINK(_xlfn.XLOOKUP(E53,講座リスト!$C:$C,講座リスト!$G:$G),IF(E53="","",IFERROR(IF(COUNTIF(E53,"*"&"ｅラーニング"&"*")=1,"受付中",_xlfn.XLOOKUP(E53,講座リスト!$C:$C,講座リスト!$D:$D)),"日程調整中"))) -> 46199 | F54: =HYPERLINK(_xlfn.XLOOKUP(F53,講座リスト!$C:$C,講座リスト!$G:$G),IF(F53="","",IFERROR(IF(COUNTIF(F53,"*"&"ｅラーニング"&"*")=1,"受付中",_xlfn.XLOOKUP(F53,講座リスト!$C:$C,講座リスト!$D:$D)),"日程調整中"))) -> 日程調整中 | G54: =HYPERLINK(_xlfn.XLOOKUP(G53,講座リスト!$C:$C,講座リスト!$G:$G),IF(G53="","",IFERROR(IF(COUNTIF(G53,"*"&"ｅラーニング"&"*")=1,"受付中",_xlfn.XLOOKUP(G53,講座リスト!$C:$C,講座リスト!$D:$D)),"日程調整中"))) -> 46231 | H54: =HYPERLINK(_xlfn.XLOOKUP(H53,講座リスト!$C:$C,講座リスト!$G:$G),IF(H53="","",IFERROR(IF(COUNTIF(H53,"*"&"ｅラーニング"&"*")=1,"受付中",_xlfn.XLOOKUP(H53,講座リスト!$C:$C,講座リスト!$D:$D)),"日程調整中"))) | I54: =HYPERLINK(_xlfn.XLOOKUP(I53,講座リスト!$C:$C,講座リスト!$G:$G),IF(I53="","",IFERROR(IF(COUNTIF(I53,"*"&"ｅラーニング"&"*")=1,"受付中",_xlfn.XLOOKUP(I53,講座リスト!$C:$C,講座リスト!$D:$D)),"日程調整中"))) | J54: =HYPERLINK(_xlfn.XLOOKUP(J53,講座リスト!$C:$C,講座リスト!$G:$G),IF(J53="","",IFERROR(IF(COUNTIF(J53,"*"&"ｅラーニング"&"*")=1,"受付中",_xlfn.XLOOKUP(J53,講座リスト!$C:$C,講座リスト!$D:$D)),"日程調整中"))) | K54: =HYPERLINK(_xlfn.XLOOKUP(K53,講座リスト!$C:$C,講座リスト!$G:$G),IF(K53="","",IFERROR(IF(COUNTIF(K53,"*"&"ｅラーニング"&"*")=1,"受付中",_xlfn.XLOOKUP(K53,講座リスト!$C:$C,講座リスト!$D:$D)),"日程調整中"))) | L54: =HYPERLINK(_xlfn.XLOOKUP(L53,講座リスト!$C:$C,講座リスト!$G:$G),IF(L53="","",IFERROR(IF(COUNTIF(L53,"*"&"ｅラーニング"&"*")=1,"受付中",_xlfn.XLOOKUP(L53,講座リスト!$C:$C,講座リスト!$D:$D)),"日程調整中"))) | M54: =HYPERLINK("https://pwel.jp/seminars","https://pwel.jp/seminars") -> https://pwel.jp/seminars
C55: リチウムイオン電池アプリケーション開発者向け | D55: 初学者～実務経験者 | E55: 【初級】【ｅラーニング】リチウムイオン電池の基礎 | F55: 【入門】[146]EV/HEVの特長から、パワエレ技術を理解する | G55: 【中級】[140]パワエレ屋必見、リチウムイオン電池の基礎とパワエレ技術 | M55: 【中級】[112]冷却設計の基礎と応用(2026/05/25) 【中級】[110]ノイズ対策技術パワエレノイズの原因と対策(2026/06/02) 【専門】[128]車載・パワエレ機器にみる熱対策～熱で失敗しないための基礎と実践～(2026/06/09) 【初級】[154]開発者のためのインバータ入門講座(2026/05/28) 【初級】[142]回路を理解して正しく測る計測技術～入門編～(2026/07/15) 【初級】[202]基礎パワエレ回路の速習法～チョッパ回路の直感的攻略～(2026/04/24)
E56: =HYPERLINK(_xlfn.XLOOKUP(E55,講座リスト!$C:$C,講座リスト!$G:$G),IF(E55="","",IFERROR(IF(COUNTIF(E55,"*"&"ｅラーニング"&"*")=1,"受付中",_xlfn.XLOOKUP(E55,講座リスト!$C:$C,講座リスト!$D:$D)),"日程調整中"))) -> 受付中 | F56: =HYPERLINK(_xlfn.XLOOKUP(F55,講座リスト!$C:$C,講座リスト!$G:$G),IF(F55="","",IFERROR(IF(COUNTIF(F55,"*"&"ｅラーニング"&"*")=1,"受付中",_xlfn.XLOOKUP(F55,講座リスト!$C:$C,講座リスト!$D:$D)),"日程調整中"))) -> 日程調整中 | G56: =HYPERLINK(_xlfn.XLOOKUP(G55,講座リスト!$C:$C,講座リスト!$G:$G),IF(G55="","",IFERROR(IF(COUNTIF(G55,"*"&"ｅラーニング"&"*")=1,"受付中",_xlfn.XLOOKUP(G55,講座リスト!$C:$C,講座リスト!$D:$D)),"日程調整中"))) -> 46231 | H56: =HYPERLINK(_xlfn.XLOOKUP(H55,講座リスト!$C:$C,講座リスト!$G:$G),IF(H55="","",IFERROR(IF(COUNTIF(H55,"*"&"ｅラーニング"&"*")=1,"受付中",_xlfn.XLOOKUP(H55,講座リスト!$C:$C,講座リスト!$D:$D)),"日程調整中"))) | I56: =HYPERLINK(_xlfn.XLOOKUP(I55,講座リスト!$C:$C,講座リスト!$G:$G),IF(I55="","",IFERROR(IF(COUNTIF(I55,"*"&"ｅラーニング"&"*")=1,"受付中",_xlfn.XLOOKUP(I55,講座リスト!$C:$C,講座リスト!$D:$D)),"日程調整中"))) | J56: =HYPERLINK(_xlfn.XLOOKUP(J55,講座リスト!$C:$C,講座リスト!$G:$G),IF(J55="","",IFERROR(IF(COUNTIF(J55,"*"&"ｅラーニング"&"*")=1,"受付中",_xlfn.XLOOKUP(J55,講座リスト!$C:$C,講座リスト!$D:$D)),"日程調整中"))) | K56: =HYPERLINK(_xlfn.XLOOKUP(K55,講座リスト!$C:$C,講座リスト!$G:$G),IF(K55="","",IFERROR(IF(COUNTIF(K55,"*"&"ｅラーニング"&"*")=1,"受付中",_xlfn.XLOOKUP(K55,講座リスト!$C:$C,講座リスト!$D:$D)),"日程調整中"))) | L56: =HYPERLINK(_xlfn.XLOOKUP(L55,講座リスト!$C:$C,講座リスト!$G:$G),IF(L55="","",IFERROR(IF(COUNTIF(L55,"*"&"ｅラーニング"&"*")=1,"受付中",_xlfn.XLOOKUP(L55,講座リスト!$C:$C,講座リスト!$D:$D)),"日程調整中"))) | M56: =HYPERLINK("https://pwel.jp/seminars","https://pwel.jp/seminars") -> https://pwel.jp/seminars
C57: トラブル対策 | D57: 実務経験者 | E57: 【専門】[136]パワエレにおけるトラブルと対策（演習付き） | M57: 【中級】[203]基礎パワエレ制御の速習法～伝達関数・ボード線図・状態平均化を極める～(2026/05/22) 【専門】[161]SiC/GaNのゲートドライブ技術と実際(2026/05/18) 【中級】[103]インバータ（中級）大学の授業には出てこないインバータの実務技術(2026/05/21) 【中級】[110]ノイズ対策技術パワエレノイズの原因と対策(2026/06/02) 【初級】[147]PID制御設計１：制御対象の数式モデルと応答解析手法（過渡応答、周波数応答）(2026/04/13) 【中級】[109]インバータの系統連系技術－系統連系の基礎と実際－(2026/07/14) 【専門】[134]ノイズを出さない！誤動作させない！スイッチング電源 基板設計の基本作法と考え方(2026/05/19)
E58: =HYPERLINK(_xlfn.XLOOKUP(E57,講座リスト!$C:$C,講座リスト!$G:$G),IF(E57="","",IFERROR(IF(COUNTIF(E57,"*"&"ｅラーニング"&"*")=1,"受付中",_xlfn.XLOOKUP(E57,講座リスト!$C:$C,講座リスト!$D:$D)),"日程調整中"))) -> 46202 | F58: =HYPERLINK(_xlfn.XLOOKUP(F57,講座リスト!$C:$C,講座リスト!$G:$G),IF(F57="","",IFERROR(IF(COUNTIF(F57,"*"&"ｅラーニング"&"*")=1,"受付中",_xlfn.XLOOKUP(F57,講座リスト!$C:$C,講座リスト!$D:$D)),"日程調整中"))) | G58: =HYPERLINK(_xlfn.XLOOKUP(G57,講座リスト!$C:$C,講座リスト!$G:$G),IF(G57="","",IFERROR(IF(COUNTIF(G57,"*"&"ｅラーニング"&"*")=1,"受付中",_xlfn.XLOOKUP(G57,講座リスト!$C:$C,講座リスト!$D:$D)),"日程調整中"))) | H58: =HYPERLINK(_xlfn.XLOOKUP(H57,講座リスト!$C:$C,講座リスト!$G:$G),IF(H57="","",IFERROR(IF(COUNTIF(H57,"*"&"ｅラーニング"&"*")=1,"受付中",_xlfn.XLOOKUP(H57,講座リスト!$C:$C,講座リスト!$D:$D)),"日程調整中"))) | I58: =HYPERLINK(_xlfn.XLOOKUP(I57,講座リスト!$C:$C,講座リスト!$G:$G),IF(I57="","",IFERROR(IF(COUNTIF(I57,"*"&"ｅラーニング"&"*")=1,"受付中",_xlfn.XLOOKUP(I57,講座リスト!$C:$C,講座リスト!$D:$D)),"日程調整中"))) | J58: =HYPERLINK(_xlfn.XLOOKUP(J57,講座リスト!$C:$C,講座リスト!$G:$G),IF(J57="","",IFERROR(IF(COUNTIF(J57,"*"&"ｅラーニング"&"*")=1,"受付中",_xlfn.XLOOKUP(J57,講座リスト!$C:$C,講座リスト!$D:$D)),"日程調整中"))) | K58: =HYPERLINK(_xlfn.XLOOKUP(K57,講座リスト!$C:$C,講座リスト!$G:$G),IF(K57="","",IFERROR(IF(COUNTIF(K57,"*"&"ｅラーニング"&"*")=1,"受付中",_xlfn.XLOOKUP(K57,講座リスト!$C:$C,講座リスト!$D:$D)),"日程調整中"))) | L58: =HYPERLINK(_xlfn.XLOOKUP(L57,講座リスト!$C:$C,講座リスト!$G:$G),IF(L57="","",IFERROR(IF(COUNTIF(L57,"*"&"ｅラーニング"&"*")=1,"受付中",_xlfn.XLOOKUP(L57,講座リスト!$C:$C,講座リスト!$D:$D)),"日程調整中"))) | M58: =HYPERLINK("https://pwel.jp/seminars","https://pwel.jp/seminars") -> https://pwel.jp/seminars
C59: シミュレータ活用 ・QSPICE ・PSIM ・JMAG | D59: 初学者～実務経験者 | E59: 【初級】[201]機械系技術者のためのパワエレ基礎養成講座 | F59: 【初級】[202]基礎パワエレ回路の速習法～チョッパ回路の直感的攻略～ | G59: 【中級】[203]基礎パワエレ制御の速習法～伝達関数・ボード線図・状態平均化を極める～ | H59: 【中級】[204]応用パワエレ制御の速習法～電圧・電流二重ループフィードバックの勘所～ | I59: 【初級】[167]シミュレータと実機で学ぶブラシレスモータ設計入門 | J59: 【初級】[169]パワーデバイス（回路展開編）～PSIMと解析式を使ってパワーデバイスをパワエレ回路に組込む～
E60: =HYPERLINK(_xlfn.XLOOKUP(E59,講座リスト!$C:$C,講座リスト!$G:$G),IF(E59="","",IFERROR(IF(COUNTIF(E59,"*"&"ｅラーニング"&"*")=1,"受付中",_xlfn.XLOOKUP(E59,講座リスト!$C:$C,講座リスト!$D:$D)),"日程調整中"))) -> 46213 | F60: =HYPERLINK(_xlfn.XLOOKUP(F59,講座リスト!$C:$C,講座リスト!$G:$G),IF(F59="","",IFERROR(IF(COUNTIF(F59,"*"&"ｅラーニング"&"*")=1,"受付中",_xlfn.XLOOKUP(F59,講座リスト!$C:$C,講座リスト!$D:$D)),"日程調整中"))) -> 46136 | G60: =HYPERLINK(_xlfn.XLOOKUP(G59,講座リスト!$C:$C,講座リスト!$G:$G),IF(G59="","",IFERROR(IF(COUNTIF(G59,"*"&"ｅラーニング"&"*")=1,"受付中",_xlfn.XLOOKUP(G59,講座リスト!$C:$C,講座リスト!$D:$D)),"日程調整中"))) -> 46164 | H60: =HYPERLINK(_xlfn.XLOOKUP(H59,講座リスト!$C:$C,講座リスト!$G:$G),IF(H59="","",IFERROR(IF(COUNTIF(H59,"*"&"ｅラーニング"&"*")=1,"受付中",_xlfn.XLOOKUP(H59,講座リスト!$C:$C,講座リスト!$D:$D)),"日程調整中"))) -> 46185 | I60: =HYPERLINK(_xlfn.XLOOKUP(I59,講座リスト!$C:$C,講座リスト!$G:$G),IF(I59="","",IFERROR(IF(COUNTIF(I59,"*"&"ｅラーニング"&"*")=1,"受付中",_xlfn.XLOOKUP(I59,講座リスト!$C:$C,講座リスト!$D:$D)),"日程調整中"))) -> 46253 | J60: =HYPERLINK(_xlfn.XLOOKUP(J59,講座リスト!$C:$C,講座リスト!$G:$G),IF(J59="","",IFERROR(IF(COUNTIF(J59,"*"&"ｅラーニング"&"*")=1,"受付中",_xlfn.XLOOKUP(J59,講座リスト!$C:$C,講座リスト!$D:$D)),"日程調整中"))) -> 46294 | K60: =HYPERLINK(_xlfn.XLOOKUP(K59,講座リスト!$C:$C,講座リスト!$G:$G),IF(K59="","",IFERROR(IF(COUNTIF(K59,"*"&"ｅラーニング"&"*")=1,"受付中",_xlfn.XLOOKUP(K59,講座リスト!$C:$C,講座リスト!$D:$D)),"日程調整中"))) | L60: =HYPERLINK(_xlfn.XLOOKUP(L59,講座リスト!$C:$C,講座リスト!$G:$G),IF(L59="","",IFERROR(IF(COUNTIF(L59,"*"&"ｅラーニング"&"*")=1,"受付中",_xlfn.XLOOKUP(L59,講座リスト!$C:$C,講座リスト!$D:$D)),"日程調整中")))
C61: ものづくり体験 | D61: 初学者～実務経験者 | E61: 【初級】[301]つくりながら学ぶDCモータ | F61: 【初級】[303]つくりながら学ぶブラシレスモータ | G61: 【中級】[302]つくりながら学ぶDC-DCコンバータ | H61: 【専門】[153]パワー半導体デバイスのダブルパルス試験 | I61: 【初級】[167]シミュレータと実機で学ぶブラシレスモータ設計入門 | J61: 【初級】[183]1日でつかむ、組み込みマイコン基礎技術～マイコンによるアナログ・デジタル信号の取り扱い～ | M61: 【初級】[201]機械系技術者のためのパワエレ基礎養成講座(2026/07/10) 【初級】[145]自動車の省エネ化を実現するモータとその制御技術の基礎(2026/04/20) 【初級】[102]インバータ（初級）インバータを扱ったことのない技術者向けの講座(2026/04/16) 【初級】[202]基礎パワエレ回路の速習法～チョッパ回路の直感的攻略～(2026/04/24) 【初級】[162]Excelから始めるプログラミングと制御工学(2026/08/05) 【初級】[154]開発者のためのインバータ入門講座(2026/05/28) 【中級】[112]冷却設計の基礎と応用(2026/05/25)
E62: =HYPERLINK(_xlfn.XLOOKUP(E61,講座リスト!$C:$C,講座リスト!$G:$G),IF(E61="","",IFERROR(IF(COUNTIF(E61,"*"&"ｅラーニング"&"*")=1,"受付中",_xlfn.XLOOKUP(E61,講座リスト!$C:$C,講座リスト!$D:$D)),"日程調整中"))) -> 46184 | F62: =HYPERLINK(_xlfn.XLOOKUP(F61,講座リスト!$C:$C,講座リスト!$G:$G),IF(F61="","",IFERROR(IF(COUNTIF(F61,"*"&"ｅラーニング"&"*")=1,"受付中",_xlfn.XLOOKUP(F61,講座リスト!$C:$C,講座リスト!$D:$D)),"日程調整中"))) -> 46169 | G62: =HYPERLINK(_xlfn.XLOOKUP(G61,講座リスト!$C:$C,講座リスト!$G:$G),IF(G61="","",IFERROR(IF(COUNTIF(G61,"*"&"ｅラーニング"&"*")=1,"受付中",_xlfn.XLOOKUP(G61,講座リスト!$C:$C,講座リスト!$D:$D)),"日程調整中"))) -> 46135 | H62: =HYPERLINK(_xlfn.XLOOKUP(H61,講座リスト!$C:$C,講座リスト!$G:$G),IF(H61="","",IFERROR(IF(COUNTIF(H61,"*"&"ｅラーニング"&"*")=1,"受付中",_xlfn.XLOOKUP(H61,講座リスト!$C:$C,講座リスト!$D:$D)),"日程調整中"))) -> 日程調整中 | I62: =HYPERLINK(_xlfn.XLOOKUP(I61,講座リスト!$C:$C,講座リスト!$G:$G),IF(I61="","",IFERROR(IF(COUNTIF(I61,"*"&"ｅラーニング"&"*")=1,"受付中",_xlfn.XLOOKUP(I61,講座リスト!$C:$C,講座リスト!$D:$D)),"日程調整中"))) -> 46253 | J62: =HYPERLINK(_xlfn.XLOOKUP(J61,講座リスト!$C:$C,講座リスト!$G:$G),IF(J61="","",IFERROR(IF(COUNTIF(J61,"*"&"ｅラーニング"&"*")=1,"受付中",_xlfn.XLOOKUP(J61,講座リスト!$C:$C,講座リスト!$D:$D)),"日程調整中"))) -> 日程調整中 | K62: =HYPERLINK(_xlfn.XLOOKUP(K61,講座リスト!$C:$C,講座リスト!$G:$G),IF(K61="","",IFERROR(IF(COUNTIF(K61,"*"&"ｅラーニング"&"*")=1,"受付中",_xlfn.XLOOKUP(K61,講座リスト!$C:$C,講座リスト!$D:$D)),"日程調整中"))) | L62: =HYPERLINK(_xlfn.XLOOKUP(L61,講座リスト!$C:$C,講座リスト!$G:$G),IF(L61="","",IFERROR(IF(COUNTIF(L61,"*"&"ｅラーニング"&"*")=1,"受付中",_xlfn.XLOOKUP(L61,講座リスト!$C:$C,講座リスト!$D:$D)),"日程調整中"))) | M62: =HYPERLINK("https://pwel.jp/seminars","https://pwel.jp/seminars") -> https://pwel.jp/seminars

Sheet 講座リスト
B1: 講座番号 | C1: 講座名 | D1: 1 | E1: 2 | F1: 3
B2: ｅラーニング | C2: 【入門】【ｅラーニング】実験で学ぶ社会人のためのパワエレ技術（導入編） | D2: 受付中 | G2: https://pwel.jp/articles/290 | H2: =HYPERLINK(G2,"HPリンク") -> HPリンク
B3: ｅラーニング | C3: 【初級】【ｅラーニング】実験で学ぶ社会人のためのパワエレ技術（基礎編） | D3: 受付中 | G3: https://pwel.jp/articles/347 | H3: =HYPERLINK(G3,"HPリンク") -> HPリンク
B4: ｅラーニング | C4: 【初級】【ｅラーニング】設計基礎技術講座・導入編 | D4: 受付中 | G4: https://pwel.jp/articles/46 | H4: =HYPERLINK(G4,"HPリンク") -> HPリンク
B5: ｅラーニング | C5: 【専門】【ｅラーニング】設計基礎技術講座・設計編 | D5: 受付中 | G5: https://pwel.jp/articles/51 | H5: =HYPERLINK(G5,"HPリンク") -> HPリンク
B6: ｅラーニング | C6: 【初級】【ｅラーニング】基礎パワエレ回路の速習法 | D6: 受付中 | G6: https://pwel.jp/articles/311 | H6: =HYPERLINK(G6,"HPリンク") -> HPリンク
B7: ｅラーニング | C7: 【中級】【ｅラーニング】高専の教師が教える、パワーエレクトロニクス入門講座 | D7: 受付中 | G7: https://pwel.jp/articles/304 | H7: =HYPERLINK(G7,"HPリンク") -> HPリンク
B8: ｅラーニング | C8: 【初級】【ｅラーニング】リチウムイオン電池の基礎 | D8: 受付中 | G8: https://pwel.jp/articles/726 | H8: =HYPERLINK(G8,"HPリンク") -> HPリンク
B9: ｅラーニング | C9: 【中級】【ｅラーニング】パワエレ制御技術講座 | D9: 受付中 | G9: https://pwel.jp/articles/425 | H9: =HYPERLINK(G9,"HPリンク") -> HPリンク
B10: ｅラーニング | C10: 【専門】【ｅラーニング】平地研究室技術メモ ｅラーニング講座：変圧器とリアクトルの徹底理解 | D10: 受付中 | G10: https://pwel.jp/articles/111 | H10: =HYPERLINK(G10,"HPリンク") -> HPリンク
B11: ｅラーニング | C11: 【専門】【ｅラーニング】平地研究室技術メモ ｅラーニング講座：DC/DCコンバータ入門 | D11: 受付中 | G11: https://pwel.jp/articles/131 | H11: =HYPERLINK(G11,"HPリンク") -> HPリンク
B12: ｅラーニング | C12: 【専門】【ｅラーニング】平地研究室技術メモ ｅラーニング講座：パワエレ学習基礎講座 | D12: 受付中 | G12: https://pwel.jp/articles/132 | H12: =HYPERLINK(G12,"HPリンク") -> HPリンク
B13: ｅラーニング | C13: 【専門】【ｅラーニング】赤木泰文教授のパワエレ講座：電動機と電動機駆動の基礎と実践 | D13: 受付中 | G13: https://pwel.jp/articles/34 | H13: =HYPERLINK(G13,"HPリンク") -> HPリンク
B14: ｅラーニング | C14: 【専門】【ｅラーニング】赤木泰文教授のパワエレ講座：高周波パワーエレクトロニクス回路の基礎と実践 | D14: 受付中 | G14: https://pwel.jp/articles/52 | H14: =HYPERLINK(G14,"HPリンク") -> HPリンク
B15: 講座番号 | C15: 講座名 | D15: 1 | E15: 2 | F15: 3
B16: １２１ | C16: 【入門】[121]パワエレ入門３時間でわかるパワエレの全貌 | D16: 日程調整中 | G16: https://pwel.jp/articles/226 | H16: =HYPERLINK(G16,"HPリンク") -> HPリンク
B17: １３９ | C17: 【入門】[139]モータ入門３時間でわかるモータ | D17: 日程調整中 | G17: https://pwel.jp/articles/359 | H17: =HYPERLINK(G17,"HPリンク") -> HPリンク
B18: ２０１ | C18: 【初級】[201]機械系技術者のためのパワエレ基礎養成講座 | D18: 46213 | G18: https://pwel.jp/articles/214 | H18: =HYPERLINK(G18,"HPリンク") -> HPリンク
B19: １４６ | C19: 【入門】[146]EV/HEVの特長から、パワエレ技術を理解する | D19: 日程調整中 | G19: https://pwel.jp/articles/437 | H19: =HYPERLINK(G19,"HPリンク") -> HPリンク
B20: １０１ | C20: 【入門】[101]電気工学入門機械系・情報系技術者のための電気入門講座 | D20: 日程調整中 | G20: https://pwel.jp/articles/217 | H20: =HYPERLINK(G20,"HPリンク") -> HPリンク
B21: １７３ | C21: 【入門】[173]入門者向けシリーズパワエレ入門と電気入門 | D21: 日程調整中 | G21: https://pwel.jp/articles/657 | H21: =HYPERLINK(G21,"HPリンク") -> HPリンク
B22: １８４ | C22: 【入門】[184]入門者向けシリーズパワエレのための交流回路 | D22: 日程調整中 | G22: https://pwel.jp/articles/751 | H22: =HYPERLINK(G22,"HPリンク") -> HPリンク
B23: １８５ | C23: 【初級】[185]入門者向けシリーズパワエレのための三相交流 | D23: 日程調整中 | G23: https://pwel.jp/articles/752 | H23: =HYPERLINK(G23,"HPリンク") -> HPリンク
B24: １８６ | C24: 【初級】[186]入門者向けシリーズパワーデバイスとパワエレ回路入門 | D24: 日程調整中 | G24: https://pwel.jp/articles/753 | H24: =HYPERLINK(G24,"HPリンク") -> HPリンク
B25: １８７ | C25: 【初級】[187]入門者向けシリーズモータとベクトル制御入門 | D25: 日程調整中 | G25: https://pwel.jp/articles/754 | H25: =HYPERLINK(G25,"HPリンク") -> HPリンク
B26: １６８ | C26: 【初級】[168]パワーデバイス（基礎編）～演習問題を通して半導体物理の基礎、動作原理、デバイス特性を徹底理解する～ | D26: 日程調整中 | G26: https://pwel.jp/articles/610 | H26: =HYPERLINK(G26,"HPリンク") -> HPリンク
B27: １６９ | C27: 【初級】[169]パワーデバイス（回路展開編）～PSIMと解析式を使ってパワーデバイスをパワエレ回路に組込む～ | D27: 46294 | G27: https://pwel.jp/articles/611 | H27: =HYPERLINK(G27,"HPリンク") -> HPリンク
B28: １７１ | C28: 【初級】[171]パワー半導体デバイスのゲート駆動技術 | D28: 46282 | E28: 46282 | G28: https://pwel.jp/articles/613 | H28: =HYPERLINK(G28,"HPリンク") -> HPリンク
B29: １５３ | C29: 【専門】[153]パワー半導体デバイスのダブルパルス試験 | D29: 日程調整中 | G29: https://pwel.jp/articles/463 | H29: =HYPERLINK(G29,"HPリンク") -> HPリンク
B30: １４２ | C30: 【初級】[142]回路を理解して正しく測る計測技術～入門編～ | D30: 46218 | G30: https://pwel.jp/articles/392 | H30: =HYPERLINK(G30,"HPリンク") -> HPリンク
B31: １１１ | C31: 【中級】[111]測定技術実測を通して学ぶパワエレ回路・デバイス・計測技術 | D31: 日程調整中 | G31: https://pwel.jp/articles/219 | H31: =HYPERLINK(G31,"HPリンク") -> HPリンク
B32: １１３ | C32: 【初級】[113]燃料電池技術知って得する基礎知識 | D32: 46199 | G32: https://pwel.jp/articles/238 | H32: =HYPERLINK(G32,"HPリンク") -> HPリンク
B33: １４０ | C33: 【中級】[140]パワエレ屋必見、リチウムイオン電池の基礎とパワエレ技術 | D33: 46231 | G33: https://pwel.jp/articles/373 | H33: =HYPERLINK(G33,"HPリンク") -> HPリンク
B34: １７５ | C34: 【中級】[175]SPICEのデバイスモデリング基礎とAI活用 | D34: 46203 | G34: https://pwel.jp/articles/661 | H34: =HYPERLINK(G34,"HPリンク") -> HPリンク
B35: １３６ | C35: 【専門】[136]パワエレにおけるトラブルと対策（演習付き） | D35: 46202 | G35: https://pwel.jp/articles/341 | H35: =HYPERLINK(G35,"HPリンク") -> HPリンク
B36: １１２ | C36: 【中級】[112]冷却設計の基礎と応用 | D36: 46167 | E36: 46275 | G36: https://pwel.jp/articles/230 | H36: =HYPERLINK(G36,"HPリンク") -> HPリンク
B37: １２８ | C37: 【専門】[128]車載・パワエレ機器にみる熱対策～熱で失敗しないための基礎と実践～ | D37: 46182 | G37: https://pwel.jp/articles/246 | H37: =HYPERLINK(G37,"HPリンク") -> HPリンク
B38: １１０ | C38: 【中級】[110]ノイズ対策技術パワエレノイズの原因と対策 | D38: 46175 | G38: https://pwel.jp/articles/232 | H38: =HYPERLINK(G38,"HPリンク") -> HPリンク
B39: １３８ | C39: 【専門】[138]パワーエレクトロニクス機器における電磁ノイズ対策の考え方 | D39: 46276 | G39: https://pwel.jp/articles/346 | H39: =HYPERLINK(G39,"HPリンク") -> HPリンク
B40: １２９ | C40: 【専門】[129]高周波電力変換器における磁性素子～構造技術と負荷試験法～ | D40: 46198 | G40: https://pwel.jp/articles/263 | H40: =HYPERLINK(G40,"HPリンク") -> HPリンク
B41: １３４ | C41: 【専門】[134]ノイズを出さない！誤動作させない！スイッチング電源 基板設計の基本作法と考え方 | D41: 46161 | G41: https://pwel.jp/articles/333 | H41: =HYPERLINK(G41,"HPリンク") -> HPリンク
B42: １３５ | C42: 【専門】[135]パワーコンバータ用インダクタ/トランスの最新技術とその設計法 | D42: 46196 | G42: https://pwel.jp/articles/334 | H42: =HYPERLINK(G42,"HPリンク") -> HPリンク
B43: １６１ | C43: 【専門】[161]SiC/GaNのゲートドライブ技術と実際 | D43: 46160 | G43: https://pwel.jp/articles/553 | H43: =HYPERLINK(G43,"HPリンク") -> HPリンク
B44: １７８ | C44: 【初級】[178]パワエレの試験環境整備と安全確保の考え方 | D44: 46212 | G44: https://pwel.jp/articles/703 | H44: =HYPERLINK(G44,"HPリンク") -> HPリンク
B45: １６４ | C45: 【初級】[164]DC-DCコンバータの基礎～導入講座～（前編） | D45: 46280 | G45: https://pwel.jp/articles/586 | H45: =HYPERLINK(G45,"HPリンク") -> HPリンク
B46: １６５ | C46: 【初級】[165]DC-DCコンバータの基礎～導入講座～（後編） | D46: 46295 | E46: 46295 | G46: https://pwel.jp/articles/587 | H46: =HYPERLINK(G46,"HPリンク") -> HPリンク
B47: ２０２ | C47: 【初級】[202]基礎パワエレ回路の速習法～チョッパ回路の直感的攻略～ | D47: 46136 | E47: 46262 | G47: https://pwel.jp/articles/227 | H47: =HYPERLINK(G47,"HPリンク") -> HPリンク
B48: １１６ | C48: 【中級】[116]演習によるDC-DCコンバータレベルアップ講座 | D48: 46238 | G48: https://pwel.jp/articles/234 | H48: =HYPERLINK(G48,"HPリンク") -> HPリンク
B49: １５１ | C49: 【中級】[151]演習による変圧器・リアクトル徹底理解講座 | D49: 46224 | G49: https://pwel.jp/articles/443 | H49: =HYPERLINK(G49,"HPリンク") -> HPリンク
B50: １２２ | C50: 【専門】[122]DC-DCコンバータの徹底理解講座（LLCコンバータ） | D50: 46189 | G50: https://pwel.jp/articles/224 | H50: =HYPERLINK(G50,"HPリンク") -> HPリンク
B51: １２３ | C51: 【専門】[123]DC-DCコンバータの徹底理解講座（DABコンバータ） | D51: 46210 | G51: https://pwel.jp/articles/225 | H51: =HYPERLINK(G51,"HPリンク") -> HPリンク
B52: １２４ | C52: 【専門】[124]DC-DCコンバータの徹底理解講座（フォワード型） | D52: 46252 | E52: 46266 | G52: https://pwel.jp/articles/261 | H52: =HYPERLINK(G52,"HPリンク") -> HPリンク
B53: １２５ | C53: 【専門】[125]DC-DCコンバータの徹底理解講座（ブリッジ型） | D53: 日程調整中 | G53: https://pwel.jp/articles/262 | H53: =HYPERLINK(G53,"HPリンク") -> HPリンク
B54: １２６ | C54: 【専門】[126]DC-DCコンバータの徹底理解講座（電流型・双方向DDコン） | D54: 日程調整中 | G54: https://pwel.jp/articles/251 | H54: =HYPERLINK(G54,"HPリンク") -> HPリンク
B55: １２７ | C55: 【専門】[127]DC-DCコンバータの徹底理解講座（PFCコンバータ） | D55: 46140 | G55: https://pwel.jp/articles/252 | H55: =HYPERLINK(G55,"HPリンク") -> HPリンク
B56: １４９ | C56: 【専門】[149]DC-DCコンバータの徹底理解講座（ソフトスイッチングの動作原理と重要特性） | D56: 46154 | G56: https://pwel.jp/articles/441 | H56: =HYPERLINK(G56,"HPリンク") -> HPリンク
B57: １５０ | C57: 【専門】[150]DC-DCコンバータの徹底理解講座（共振型DC-DCコンバータ） | D57: 46168 | G57: https://pwel.jp/articles/442 | H57: =HYPERLINK(G57,"HPリンク") -> HPリンク
B58: ２０３ | C58: 【中級】[203]基礎パワエレ制御の速習法～伝達関数・ボード線図・状態平均化を極める～ | D58: 46164 | E58: 46290 | F58: 46290 | G58: https://pwel.jp/articles/243 | H58: =HYPERLINK(G58,"HPリンク") -> HPリンク
B59: ２０４ | C59: 【中級】[204]応用パワエレ制御の速習法～電圧・電流二重ループフィードバックの勘所～ | D59: 46185 | G59: https://pwel.jp/articles/266 | H59: =HYPERLINK(G59,"HPリンク") -> HPリンク
B60: １６２ | C60: 【初級】[162]Excelから始めるプログラミングと制御工学 | D60: 46239 | G60: https://pwel.jp/articles/573 | H60: =HYPERLINK(G60,"HPリンク") -> HPリンク
B61: １５９ | C61: 【中級】[159]パワエレ制御の組込みソフト実装技術講座 | D61: 日程調整中 | G61: https://pwel.jp/articles/540 | H61: =HYPERLINK(G61,"HPリンク") -> HPリンク
B62: １４３ | C62: 【初級】[143]DC-DCコンバータのフィードバッグ制御入門 | D62: 46219 | G62: https://pwel.jp/articles/411 | H62: =HYPERLINK(G62,"HPリンク") -> HPリンク
B63: １４４ | C63: 【初級】[144]基礎から理解するスイッチング電源制御系設計 | D63: 46258 | G63: https://pwel.jp/articles/412 | H63: =HYPERLINK(G63,"HPリンク") -> HPリンク
B64: １５４ | C64: 【初級】[154]開発者のためのインバータ入門講座 | D64: 46170 | E64: 46259 | G64: https://pwel.jp/articles/486 | H64: =HYPERLINK(G64,"HPリンク") -> HPリンク
B65: １０２ | C65: 【初級】[102]インバータ（初級）インバータを扱ったことのない技術者向けの講座 | D65: 日程調整中 | G65: https://pwel.jp/articles/244 | H65: =HYPERLINK(G65,"HPリンク") -> HPリンク
B66: １０３ | C66: 【中級】[103]インバータ（中級）大学の授業には出てこないインバータの実務技術 | D66: 46163 | G66: https://pwel.jp/articles/257 | H66: =HYPERLINK(G66,"HPリンク") -> HPリンク
B67: １０９ | C67: 【中級】[109]インバータの系統連系技術－系統連系の基礎と実際－ | D67: 46217 | G67: https://pwel.jp/articles/218 | H67: =HYPERLINK(G67,"HPリンク") -> HPリンク
B68: １０４ | C68: 【初級】[104]モータ初級わかりやすいモータの基本技術 | D68: 46205 | G68: https://pwel.jp/articles/229 | H68: =HYPERLINK(G68,"HPリンク") -> HPリンク
B69: １４５ | C69: 【初級】[145]自動車の省エネ化を実現するモータとその制御技術の基礎 | D69: 日程調整中 | G69: https://pwel.jp/articles/413 | H69: =HYPERLINK(G69,"HPリンク") -> HPリンク
B70: １４７ | C70: 【初級】[147]PID制御設計１：制御対象の数式モデルと応答解析手法（過渡応答、周波数応答） | D70: 46267 | G70: https://pwel.jp/articles/435 | H70: =HYPERLINK(G70,"HPリンク") -> HPリンク
B71: １４８ | C71: 【初級】[148]PID制御設計２：モータと電気回路のPID制御設計方法 | D71: 46139 | E71: 46281 | G71: https://pwel.jp/articles/436 | H71: =HYPERLINK(G71,"HPリンク") -> HPリンク
B72: １０５ | C72: 【中級】[105]中級者のためのモータ制御回転数制御からベクトル制御の入門まで | D72: 46273 | G72: https://pwel.jp/articles/258 | H72: =HYPERLINK(G72,"HPリンク") -> HPリンク
B73: １１５ | C73: 【中級】[115]中級者のためのモータ設計モータを活用するための設計の考え方 | D73: 46240 | G73: https://pwel.jp/articles/239 | H73: =HYPERLINK(G73,"HPリンク") -> HPリンク
B74: １３０ | C74: 【専門】[130]永久磁石同期モータ（PMSM）のベクトル制御技術、ドライブの原理から実際まで（前編） | D74: 46183 | G74: https://pwel.jp/articles/267 | H74: =HYPERLINK(G74,"HPリンク") -> HPリンク
B75: １３１ | C75: 【専門】[131]永久磁石同期モータ（PMSM）のベクトル制御技術、ドライブの原理から実際まで（後編） | D75: 46197 | G75: https://pwel.jp/articles/268 | H75: =HYPERLINK(G75,"HPリンク") -> HPリンク
B76: １５２ | C76: 【専門】[152]永久磁石同期モータのdq方程式およびトルク式の詳細な数式導出 | D76: 日程調整中 | G76: https://pwel.jp/articles/451 | H76: =HYPERLINK(G76,"HPリンク") -> HPリンク
B77: １６７ | C77: 【初級】[167]シミュレータと実機で学ぶブラシレスモータ設計入門 | D77: 46253 | G77: https://pwel.jp/articles/595 | H77: =HYPERLINK(G77,"HPリンク") -> HPリンク
B78: １５５ | C78: 【中級】[155]モータ振動騒音と低減対策（基礎編）ー 電流・流体・機械の３領域から学ぶ実用講座 ー | D78: 日程調整中 | G78: https://pwel.jp/articles/488 | H78: =HYPERLINK(G78,"HPリンク") -> HPリンク
B79: １５６ | C79: 【専門】[156]モータの振動騒音（対策編）（今知りたい！実務に役立つ知識と低減対策法） | D79: 46162 | G79: https://pwel.jp/articles/489 | H79: =HYPERLINK(G79,"HPリンク") -> HPリンク
B80: １６０ | C80: 【専門】[160]モータの品質問題とその解決方法（今知りたい！実務に役立つ知識と低減対策法） | D80: 46225 | G80: https://pwel.jp/articles/548 | H80: =HYPERLINK(G80,"HPリンク") -> HPリンク
B81: １７０ | C81: 【専門】[170]モータのトルクリップルとその低減対策（今知りたい！実務に役立つ知識と低減対策法） | D81: 46255 | G81: https://pwel.jp/articles/612 | H81: =HYPERLINK(G81,"HPリンク") -> HPリンク
B82: １７２ | C82: 【初級】[172]電気自動車の電装回路とベクトル制御～モータの駆動回路とベクトル制御を1日で理解する～ | D82: 日程調整中 | G82: https://pwel.jp/articles/647 | H82: =HYPERLINK(G82,"HPリンク") -> HPリンク
B83: １８１ | C83: 【専門】[181]モータ試験・評価技術の実践技術講座― 試験の本質を掴み、設計・品質・量産を支える技術を実例で学ぶ ― | D83: 46268 | G83: https://pwel.jp/articles/713 | H83: =HYPERLINK(G83,"HPリンク") -> HPリンク
B84: １８３ | C84: 【初級】[183]1日でつかむ、組み込みマイコン基礎技術～マイコンによるアナログ・デジタル信号の取り扱い～ | D84: 日程調整中 | G84: https://pwel.jp/articles/735 | H84: =HYPERLINK(G84,"HPリンク") -> HPリンク
B85: １８２ | C85: 【初級】[182]モータドライブ制御技術基礎コース～予備知識が無い方に向けた基礎講座～ | D85: 日程調整中 | G85: https://pwel.jp/articles/732 | H85: =HYPERLINK(G85,"HPリンク") -> HPリンク
B86: ３０１ | C86: 【初級】[301]つくりながら学ぶDCモータ | D86: 46184 | G86: https://pwel.jp/articles/265 | H86: =HYPERLINK(G86,"HPリンク") -> HPリンク
B87: ３０３ | C87: 【初級】[303]つくりながら学ぶブラシレスモータ | D87: 46169 | E87: 46206 | G87: https://pwel.jp/articles/344 | H87: =HYPERLINK(G87,"HPリンク") -> HPリンク
B88: ３０２ | C88: 【中級】[302]つくりながら学ぶDC-DCコンバータ | D88: 46135 | E88: 46190 | F88: 46260 | G88: https://pwel.jp/articles/228 | H88: =HYPERLINK(G88,"HPリンク") -> HPリンク
